BEGIN:VCALENDAR
VERSION:2.0
PRODID:-//It Fryske Gea - ECPv6.14.2//NONSGML v1.0//EN
CALSCALE:GREGORIAN
METHOD:PUBLISH
X-WR-CALNAME:It Fryske Gea
X-ORIGINAL-URL:https://www.itfryskegea.nl
X-WR-CALDESC:Evenementen voor It Fryske Gea
REFRESH-INTERVAL;VALUE=DURATION:PT1H
X-Robots-Tag:noindex
X-PUBLISHED-TTL:PT1H
BEGIN:VTIMEZONE
TZID:Europe/Amsterdam
BEGIN:DAYLIGHT
TZOFFSETFROM:+0100
TZOFFSETTO:+0200
TZNAME:CEST
DTSTART:20250330T010000
END:DAYLIGHT
BEGIN:STANDARD
TZOFFSETFROM:+0200
TZOFFSETTO:+0100
TZNAME:CET
DTSTART:20251026T010000
END:STANDARD
BEGIN:DAYLIGHT
TZOFFSETFROM:+0100
TZOFFSETTO:+0200
TZNAME:CEST
DTSTART:20260329T010000
END:DAYLIGHT
BEGIN:STANDARD
TZOFFSETFROM:+0200
TZOFFSETTO:+0100
TZNAME:CET
DTSTART:20261025T010000
END:STANDARD
END:VTIMEZONE
BEGIN:VEVENT
DTSTART;TZID=Europe/Amsterdam:20260409T173000
DTEND;TZID=Europe/Amsterdam:20260409T203000
DTSTAMP:20260419T160915
CREATED:20260205T133222Z
LAST-MODIFIED:20260409T074838Z
UID:10000358-1775755800-1775766600@www.itfryskegea.nl
SUMMARY:Kanotocht in het schemerdonker door de Alde Feanen (12+)
DESCRIPTION:Niet bang voor een beetje avontuur en geïnteresseerd in de natuur? Geef je dan op voor deze kanotocht door Nationaal Park De Alde Feanen. Pas in de avonduren vertrek je met een gids vanuit Earnewâld\, zodat je een grotere kans hebt om wilde dieren te spotten vanuit je kano. \nLaagveenmoeras van maar liefst 4.000 hectare\nDe Alde Feanen is een Nationaal Park dat in het midden van Friesland te vinden is. Het is één van de grootste laagveenmoerrassen van Noordwest-Europa. Dit waterrijke natuurgebied is grotendeels eigendom van It Fryske Gea en vormt de thuisbasis van vele vogels\, er huist onder meer een grote aalscholverkolonie en kokmeeuwkolonie. \nIn stilte door de natuur\nMet een Canadees – ofwel een open kano – kom je op plekken waar bijna niemand kan komen. Je verstoort de natuur nauwelijks\, want de kano is stil en smal. Eén Canadese kano biedt genoeg ruimte voor twee of drie personen en wat bagage. Vanaf je zitplaats net boven het water in stilte geniet van het moeras en z’n zingende bewoners. \nDieren die je tegenkomt\nDe gids zal je onderweg wijzen op geluiden en andere aanwijzingen van dieren die in de buurt zijn. Denk hierbij aan de uitwerpselen – ook wel spraints genoemd – die otters op strategische plekken achterlaten om hun territorium te markeren. En naast luisteren naar vogels als de koekoek\, zul je in de schemer ook vogels zién die hun rustplaats verlaten om voedselvluchten te maken. Zo kan het zomaar zijn dat je voor het eerst in je leven een roerdomp ziet vliegen! Ook de reeën komen ’s avonds uit hun skûlplak\, hun leger. Wie weet zie je ze grazen op een open plek langs de waterkant. \nPraktische tips van It Fryske Gea\n\nDeze kanotocht duurt ongeveer 3 uren\, houd rekening met een half uur uitloop.\nHet weer kan fris zijn\, dus trek voldoende laagjes kleding aan. Trek in ieder geval een water- en winddicht jack aan. Want je weet: er bestaat geen slecht weer\, alleen slechte kleding!\nNeem iets te eten en te drinken mee voor onderweg in een waterdichte tas.\nHet dragen van een zwemvest is verplicht!\nDeelnemers dienen te beschikken over een goede conditie en zwemdiploma.\nDeelname is op eigen risico.\n\n  \nAls je je inschrijft voor een activiteit\, dan ga je akkoord met onze activiteitenvoorwaarden.
URL:https://www.itfryskegea.nl/activiteiten/kanotocht-in-het-schemerdonker-door-de-alde-feanen-12-4/
LOCATION:Ds. Offerhausweg 7a\, Earnewâld\, Nationaal Park De Alde Feanen\, 9264 TH
CATEGORIES:Kanoën
ATTACH;FMTTYPE=image/jpeg:https://www.itfryskegea.nl/wp-content/uploads/2025/04/IMG8179-e1748439451543.jpg
ORGANIZER;CN="Albert Huisman":MAILTO:haanhuis@hotmail.com
GEO:53.130836;5.9379801
X-APPLE-STRUCTURED-LOCATION;VALUE=URI;X-ADDRESS=Ds. Offerhausweg 7a Earnewâld Nationaal Park De Alde Feanen 9264 TH;X-APPLE-RADIUS=500;X-TITLE=Ds. Offerhausweg 7a:geo:5.9379801,53.130836
END:VEVENT
BEGIN:VEVENT
DTSTART;TZID=Europe/Amsterdam:20250719T183000
DTEND;TZID=Europe/Amsterdam:20250719T213000
DTSTAMP:20260419T160915
CREATED:20250515T105408Z
LAST-MODIFIED:20250718T141440Z
UID:10000099-1752949800-1752960600@www.itfryskegea.nl
SUMMARY:Kanotocht in het schemerdonker door de Alde Feanen (12+)
DESCRIPTION:Niet bang voor een beetje avontuur en geïnteresseerd in de natuur? Geef je dan op voor deze kanotocht door Nationaal Park De Alde Feanen. Pas in de avonduren vertrek je met een gids vanuit Earnewâld\, zodat je een grotere kans hebt om wilde dieren te spotten vanuit je kano. \nLaagveenmoeras van maar liefst 4.000 hectare\nDe Alde Feanen is een Nationaal Park dat in het midden van Friesland te vinden is. Het is één van de grootste laagveenmoerrassen van Noordwest-Europa. Dit waterrijke natuurgebied is grotendeels eigendom van It Fryske Gea en vormt de thuisbasis van vele vogels\, er huist onder meer een grote aalscholverkolonie en kokmeeuwkolonie. \nIn stilte door de natuur\nMet een Canadees – ofwel een open kano – kom je op plekken waar gjin minsk kan komen. Je verstoort de natuur nauwelijks\, want de kano is stil en smal. Eén Canadese kano biedt genoeg ruimte voor twee of drie personen en wat bagage. Vanaf je zitplaats net boven het water in stilte geniet van het moeras en z’n zingende bewoners. \nDieren die je tegenkomt\nDe gids zal je onderweg wijzen op geluiden en andere aanwijzingen van dieren die in de buurt zijn. Denk hierbij aan de uitwerpselen – ook wel spraints genoemd – die otters op strategische plekken achterlaten om hun territorium te markeren. En naast luisteren naar vogels als de koekoek\, zul je in de schemer ook vogels zién die hun rustplaats verlaten om voedselvluchten te maken. Zo kan het zomaar zijn dat je voor het eerst in je leven een roerdomp ziet vliegen! Ook de reeën komen ’s avonds uit hun skûlplak\, hun leger. Wie weet zie je ze grazen op een open plek langs de waterkant. \nPraktische tips van It Fryske Gea\n\nDeze kanotocht duurt ongeveer 3 uren\, houd rekening met een half uur uitloop.\nHet weer kan fris zijn\, dus trek voldoende laagjes kleding aan. Trek in ieder geval een water- en winddicht jack aan. Want je weet: er bestaat geen slecht weer\, alleen slechte kleding!\n Neem iets te eten en te drinken mee voor onderweg in een waterdichte tas.\nVoor zwemvesten wordt gezorgd!\nDeelname is op eigen risico.
URL:https://www.itfryskegea.nl/activiteiten/kanotocht-in-het-schemerdonker-door-de-alde-feanen-12-3/
LOCATION:Ds. Offerhausweg 7a\, Earnewâld\, Nationaal Park De Alde Feanen\, 9264 TH
CATEGORIES:Kanoën
ATTACH;FMTTYPE=image/jpeg:https://www.itfryskegea.nl/wp-content/uploads/2025/04/IMG8179-e1748439451543.jpg
ORGANIZER;CN="Saskia Barentsen":MAILTO:saskia.barentsen@gmail.com
GEO:53.130836;5.9379801
X-APPLE-STRUCTURED-LOCATION;VALUE=URI;X-ADDRESS=Ds. Offerhausweg 7a Earnewâld Nationaal Park De Alde Feanen 9264 TH;X-APPLE-RADIUS=500;X-TITLE=Ds. Offerhausweg 7a:geo:5.9379801,53.130836
END:VEVENT
BEGIN:VEVENT
DTSTART;TZID=Europe/Amsterdam:20250629T070000
DTEND;TZID=Europe/Amsterdam:20250629T100000
DTSTAMP:20260419T160915
CREATED:20250422T112352Z
LAST-MODIFIED:20250628T170540Z
UID:10000056-1751180400-1751191200@www.itfryskegea.nl
SUMMARY:Kanotocht in de vroege uurtjes door moerasgebied de Alde Feanen
DESCRIPTION:De natuur zien ontwaken vanuit een kano: het kan in Nationaal Park De Alde Feanen. Deze keer zet je zonder tegenzin je wekker\, want wat is er mooier dan in een kano door een ontwakend Nationaal Park te glijden\, terwijl de ochtenddauw langzaam verdwijnt en de zon verschijnt? \nPeddelen rond petgaten en legakkers\nDe Alde Feanen is een Nationaal Park dat in het lage midden van Friesland te vinden is. Het is één van de grootste laagveenmoerrassen van Noordwest-Europa\, en wordt beheerd door It Fryske Gea. In het verleden is er in dit gebied veel turf gewonnen en daardoor ontstonden petgatten – smalle watertjes – en stripen\, dat zijn de legakkers waarop het veen werd gedroogd. Met je kano manoeuvreer je hier tussendoor op zoek naar bijzondere flora en fauna. \nNatte natuur\nMet een kano kun je de natte natuur van Nationaal Park De Alde Feanen uitstekend verkennen. De gids leidt je naar de moaiste plakjes waar geen mens te voet kan komen. In alle stilte peddel je langs waterplanten als dotterbloemen\, waterlelies\, krabbenscheer en bomen die van natte voeten houden zoals de wilg\, berk en els. Ruik aan de watermunt\, een plant die de Egyptenaren hun doden meegaven in het graf. En leer het verschil tussen riet en bies\, vroeger werden er in deze omgeving veel biezenmatten gevlochten. \nVogelrijkdom\nDoordat het ’s ochtends op het water stil is en de luchtvochtigheid hoog is\, draagt het geluid verder: een uitstekend moment om naar vogelgeluiden te luisteren. Je peddelt – uiteraard op gepaste afstand – langs een zwanennest\, er vliegen roofvogels als buizerds en kiekendieven over en er is zelfs een kans dat je een verdwaalde ijsvogel zult aantreffen bij de zwaluwwand. \nPraktische tips van It Fryske Gea\n\nDeze kanotocht duurt ongeveer 3 uren.\nDe excursie is geschikt voor volwassenen en jongeren vanaf 12 jaar die in het bezit zijn van een zwemdiploma.\nHet weer kan fris zijn\, dus trek voldoende laagjes kleding aan. Trek in ieder geval een water- en winddicht jack aan.\nNeem iets te eten en te drinken mee voor onderweg in een waterdichte tas.\nVoor zwemvesten wordt gezorgd!\nDeelname is op eigen risico.
URL:https://www.itfryskegea.nl/activiteiten/kanotocht-in-de-vroege-uurtjes-door-moerasgebied-de-alde-feanen/
LOCATION:Ds. Offerhausweg 7a\, Earnewâld\, Nationaal Park De Alde Feanen\, 9264 TH
CATEGORIES:Kanoën,Uitgelicht
ATTACH;FMTTYPE=image/jpeg:https://www.itfryskegea.nl/wp-content/uploads/2024/08/20180913_112808-scaled.jpg
ORGANIZER;CN="Wijnand Jager":MAILTO:wijnand@wjager.nl
GEO:53.130836;5.9379801
X-APPLE-STRUCTURED-LOCATION;VALUE=URI;X-ADDRESS=Ds. Offerhausweg 7a Earnewâld Nationaal Park De Alde Feanen 9264 TH;X-APPLE-RADIUS=500;X-TITLE=Ds. Offerhausweg 7a:geo:5.9379801,53.130836
END:VEVENT
BEGIN:VEVENT
DTSTART;TZID=Europe/Amsterdam:20250613T190000
DTEND;TZID=Europe/Amsterdam:20250613T220000
DTSTAMP:20260419T160915
CREATED:20250421T143453Z
LAST-MODIFIED:20250613T090635Z
UID:10000047-1749841200-1749852000@www.itfryskegea.nl
SUMMARY:Kanotocht in het schemerdonker door de Alde Feanen (12+)
DESCRIPTION:Niet bang voor een beetje avontuur en geïnteresseerd in de natuur? Geef je dan op voor deze kanotocht door Nationaal Park De Alde Feanen. Pas in de avonduren vertrek je met een gids vanuit Earnewâld\, zodat je een grotere kans hebt om wilde dieren te spotten vanuit je kano. \nLaagveenmoeras van maar liefst 4.000 hectare\nDe Alde Feanen is een Nationaal Park dat in het midden van Friesland te vinden is. Het is één van de grootste laagveenmoerrassen van Noordwest-Europa. Dit waterrijke natuurgebied is grotendeels eigendom van It Fryske Gea en vormt de thuisbasis van vele vogels\, er huist onder meer een grote aalscholverkolonie en kokmeeuwkolonie. \nIn stilte door de natuur\nMet een Canadees – ofwel een open kano – kom je op plekken waar gjin minsk kan komen. Je verstoort de natuur nauwelijks\, want de kano is stil en smal. Eén Canadese kano biedt genoeg ruimte voor twee of drie personen en wat bagage. Vanaf je zitplaats net boven het water in stilte geniet van het moeras en z’n zingende bewoners. \nDieren die je tegenkomt\nDe gids zal je onderweg wijzen op geluiden en andere aanwijzingen van dieren die in de buurt zijn. Denk hierbij aan de uitwerpselen – ook wel spraints genoemd – die otters op strategische plekken achterlaten om hun territorium te markeren. En naast luisteren naar vogels als de koekoek\, zul je in de schemer ook vogels zién die hun rustplaats verlaten om voedselvluchten te maken. Zo kan het zomaar zijn dat je voor het eerst in je leven een roerdomp ziet vliegen! Ook de reeën komen ’s avonds uit hun skûlplak\, hun leger. Wie weet zie je ze grazen op een open plek langs de waterkant. \nPraktische tips van It Fryske Gea\n\nDeze kanotocht duurt ongeveer 3 uren\, houd rekening met een half uur uitloop.\nHet weer kan fris zijn\, dus trek voldoende laagjes kleding aan. Trek in ieder geval een water- en winddicht jack aan. Want je weet: er bestaat geen slecht weer\, alleen slechte kleding!\n Neem iets te eten en te drinken mee voor onderweg in een waterdichte tas.\nVoor zwemvesten wordt gezorgd!\nDeelname is op eigen risico.
URL:https://www.itfryskegea.nl/activiteiten/kanotocht-in-het-schemerdonker-door-de-alde-feanen-13/
LOCATION:Ds. Offerhausweg 7a\, Earnewâld\, Nationaal Park De Alde Feanen\, 9264 TH
CATEGORIES:Kanoën
ATTACH;FMTTYPE=image/jpeg:https://www.itfryskegea.nl/wp-content/uploads/2025/04/IMG8179-e1748439451543.jpg
ORGANIZER;CN="Albert Huisman":MAILTO:haanhuis@hotmail.com
GEO:53.130836;5.9379801
X-APPLE-STRUCTURED-LOCATION;VALUE=URI;X-ADDRESS=Ds. Offerhausweg 7a Earnewâld Nationaal Park De Alde Feanen 9264 TH;X-APPLE-RADIUS=500;X-TITLE=Ds. Offerhausweg 7a:geo:5.9379801,53.130836
END:VEVENT
BEGIN:VEVENT
DTSTART;TZID=Europe/Amsterdam:20250602T183000
DTEND;TZID=Europe/Amsterdam:20250602T213000
DTSTAMP:20260419T160915
CREATED:20250421T141320Z
LAST-MODIFIED:20250602T120143Z
UID:10000042-1748889000-1748899800@www.itfryskegea.nl
SUMMARY:Kanotocht in het schemerdonker door de Alde Feanen (12+)
DESCRIPTION:Niet bang voor een beetje avontuur en geïnteresseerd in de natuur? Geef je dan op voor deze kanotocht door Nationaal Park De Alde Feanen. Pas in de avonduren vertrek je met een gids vanuit Earnewâld\, zodat je een grotere kans hebt om wilde dieren te spotten vanuit je kano. \nLaagveenmoeras van maar liefst 4.000 hectare\nDe Alde Feanen is een Nationaal Park dat in het midden van Friesland te vinden is. Het is één van de grootste laagveenmoerrassen van Noordwest-Europa. Dit waterrijke natuurgebied is grotendeels eigendom van It Fryske Gea en vormt de thuisbasis van vele vogels\, er huist onder meer een grote aalscholverkolonie en kokmeeuwkolonie. \nIn stilte door de natuur\nMet een Canadees – ofwel een open kano – kom je op plekken waar gjin minsk kan komen. Je verstoort de natuur nauwelijks\, want de kano is stil en smal. Eén Canadese kano biedt genoeg ruimte voor twee of drie personen en wat bagage. Vanaf je zitplaats net boven het water in stilte geniet van het moeras en z’n zingende bewoners. \nDieren die tegenkomt\nDe gids zal je onderweg wijzen op geluiden en andere aanwijzingen van dieren die in de buurt zijn. Denk hierbij aan de uitwerpselen – ook wel spraints genoemd – die otters op strategische plekken achterlaten om hun territorium te markeren. En naast luisteren naar vogels als de koekoek\, zul je in de schemer ook vogels zién die hun rustplaats verlaten om voedselvluchten te maken. Zo kan het zomaar zijn dat je voor het eerst in je leven een roerdomp ziet vliegen! Ook de reeën komen ’s avonds uit hun skûlplak\, hun leger. Wie weet zie je ze grazen op een open plek langs de waterkant. \nPraktische tips van It Fryske Gea\n\nDeze kanotocht duurt ongeveer 3 uren\, houd rekening met een half uur uitloop.\nHet weer kan fris zijn\, dus trek voldoende laagjes kleding aan. Trek in ieder geval een water- en winddicht jack aan. Want je weet: er bestaat geen slecht weer\, alleen slechte kleding!\n Neem iets te eten en te drinken mee voor onderweg in een waterdichte tas.\nVoor zwemvesten wordt gezorgd!\nDeelname is op eigen risico.
URL:https://www.itfryskegea.nl/activiteiten/kanotocht-in-het-schemerdonker-door-de-alde-feanen-12-2/
LOCATION:Ds. Offerhausweg 7a\, Earnewâld\, Nationaal Park De Alde Feanen\, 9264 TH
CATEGORIES:Kanoën
ATTACH;FMTTYPE=image/jpeg:https://www.itfryskegea.nl/wp-content/uploads/2025/04/IMG8179-e1748439451543.jpg
ORGANIZER;CN="Albert Huisman":MAILTO:haanhuis@hotmail.com
GEO:53.130836;5.9379801
X-APPLE-STRUCTURED-LOCATION;VALUE=URI;X-ADDRESS=Ds. Offerhausweg 7a Earnewâld Nationaal Park De Alde Feanen 9264 TH;X-APPLE-RADIUS=500;X-TITLE=Ds. Offerhausweg 7a:geo:5.9379801,53.130836
END:VEVENT
BEGIN:VEVENT
DTSTART;TZID=Europe/Amsterdam:20250523T190000
DTEND;TZID=Europe/Amsterdam:20250523T220000
DTSTAMP:20260419T160915
CREATED:20250513T144859Z
LAST-MODIFIED:20250523T070826Z
UID:10000078-1748026800-1748037600@www.itfryskegea.nl
SUMMARY:Avondkanotocht in Earnewald (12+)
DESCRIPTION:Niet bang voor een beetje avontuur en geïnteresseerd in de natuur? Geef je dan op voor deze kanotocht door Nationaal Park De Alde Feanen. Pas in de avonduren vertrek je met een gids vanuit Earnewâld\, zodat je een grotere kans hebt om wilde dieren te spotten vanuit je kano. \nLaagveenmoeras van maar liefst 4.000 hectare\nDe Alde Feanen is een Nationaal Park dat in het midden van Friesland te vinden is. Het is één van de grootste laagveenmoerrassen van Noordwest-Europa. Dit waterrijke natuurgebied is grotendeels eigendom van It Fryske Gea en vormt de thuisbasis van vele vogels\, er huist onder meer een grote aalscholverkolonie en kokmeeuwkolonie. \nIn stilte door de natuur\nMet een Canadees – ofwel een open kano – kom je op plekken waar bijna niemand kan komen. Je verstoort de natuur nauwelijks\, want de kano is stil en smal. Eén Canadese kano biedt genoeg ruimte voor twee of drie personen en wat bagage. Vanaf je zitplaats net boven het water in stilte geniet van het moeras en z’n zingende bewoners. \nDieren die je tegenkomt\nDe gids zal je onderweg wijzen op geluiden en andere aanwijzingen van dieren die in de buurt zijn. Denk hierbij aan de uitwerpselen – ook wel spraints genoemd – die otters op strategische plekken achterlaten om hun territorium te markeren. En naast luisteren naar vogels als de koekoek\, zul je in de schemer ook vogels zién die hun rustplaats verlaten om voedselvluchten te maken. Zo kan het zomaar zijn dat je voor het eerst in je leven een roerdomp ziet vliegen! Ook de reeën komen ’s avonds uit hun skûlplak\, hun leger. Wie weet zie je ze grazen op een open plek langs de waterkant. \nPraktische tips van It Fryske Gea\n\nDeze kanotocht duurt ongeveer 3 uren\, houd rekening met een half uur uitloop.\nHet weer kan fris zijn\, dus trek voldoende laagjes kleding aan. Trek in ieder geval een water- en winddicht jack aan. Want je weet: er bestaat geen slecht weer\, alleen slechte kleding!\nNeem iets te eten en te drinken mee voor onderweg in een waterdichte tas.\nVoor zwemvesten wordt gezorgd!\nDeelname is op eigen risico.
URL:https://www.itfryskegea.nl/activiteiten/avondkanotocht-in-earnewald-12/
LOCATION:Ds. Offerhausweg 7a\, Earnewâld\, Nationaal Park De Alde Feanen\, 9264 TH
CATEGORIES:Kanoën
ATTACH;FMTTYPE=image/jpeg:https://www.itfryskegea.nl/wp-content/uploads/2025/04/IMG8179-e1748439451543.jpg
ORGANIZER;CN="Wijnand Jager":MAILTO:wijnand@wjager.nl
GEO:53.130836;5.9379801
X-APPLE-STRUCTURED-LOCATION;VALUE=URI;X-ADDRESS=Ds. Offerhausweg 7a Earnewâld Nationaal Park De Alde Feanen 9264 TH;X-APPLE-RADIUS=500;X-TITLE=Ds. Offerhausweg 7a:geo:5.9379801,53.130836
END:VEVENT
BEGIN:VEVENT
DTSTART;TZID=Europe/Amsterdam:20250509T183000
DTEND;TZID=Europe/Amsterdam:20250509T213000
DTSTAMP:20260419T160915
CREATED:20250404T090325Z
LAST-MODIFIED:20250508T145810Z
UID:10000017-1746815400-1746826200@www.itfryskegea.nl
SUMMARY:Kanotocht in het schemerdonker door de Alde Feanen (12+)
DESCRIPTION:Niet bang voor een beetje avontuur en geïnteresseerd in de natuur? Geef je dan op voor deze kanotocht door Nationaal Park De Alde Feanen. Pas in de avonduren vertrek je met een gids vanuit Earnewâld\, zodat je een grotere kans hebt om wilde dieren te spotten vanuit je kano. \nLaagveenmoeras van maar liefst 4.000 hectare\nDe Alde Feanen is een Nationaal Park dat in het midden van Friesland te vinden is. Het is één van de grootste laagveenmoerrassen van Noordwest-Europa. Dit waterrijke natuurgebied is grotendeels eigendom van It Fryske Gea en vormt de thuisbasis van vele vogels\, er huist onder meer een grote aalscholverkolonie en kokmeeuwkolonie. \nIn stilte door de natuur\nMet een Canadees – ofwel een open kano – kom je op plekken waar bijna niemand kan komen. Je verstoort de natuur nauwelijks\, want de kano is stil en smal. Eén Canadese kano biedt genoeg ruimte voor twee of drie personen en wat bagage. Vanaf je zitplaats net boven het water in stilte geniet van het moeras en z’n zingende bewoners. \nDieren die je tegenkomt\nDe gids zal je onderweg wijzen op geluiden en andere aanwijzingen van dieren die in de buurt zijn. Denk hierbij aan de uitwerpselen – ook wel spraints genoemd – die otters op strategische plekken achterlaten om hun territorium te markeren. En naast luisteren naar vogels als de koekoek\, zul je in de schemer ook vogels zién die hun rustplaats verlaten om voedselvluchten te maken. Zo kan het zomaar zijn dat je voor het eerst in je leven een roerdomp ziet vliegen! Ook de reeën komen ’s avonds uit hun skûlplak\, hun leger. Wie weet zie je ze grazen op een open plek langs de waterkant. \nPraktische tips van It Fryske Gea\n\nDeze kanotocht duurt ongeveer 3 uren\, houd rekening met een half uur uitloop.\nHet weer kan fris zijn\, dus trek voldoende laagjes kleding aan. Trek in ieder geval een water- en winddicht jack aan. Want je weet: er bestaat geen slecht weer\, alleen slechte kleding!\nNeem iets te eten en te drinken mee voor onderweg in een waterdichte tas.\nVoor zwemvesten wordt gezorgd!\nDeelname is op eigen risico.
URL:https://www.itfryskegea.nl/activiteiten/kanotocht-in-het-schemerdonker-door-de-alde-feanen-12/
LOCATION:Ds. Offerhausweg 7a\, Earnewâld\, Nationaal Park De Alde Feanen\, 9264 TH
CATEGORIES:Kanoën
ATTACH;FMTTYPE=image/jpeg:https://www.itfryskegea.nl/wp-content/uploads/2025/04/IMG8179-e1748439451543.jpg
ORGANIZER;CN="Wijnand Jager":MAILTO:wijnand@wjager.nl
GEO:53.130836;5.9379801
X-APPLE-STRUCTURED-LOCATION;VALUE=URI;X-ADDRESS=Ds. Offerhausweg 7a Earnewâld Nationaal Park De Alde Feanen 9264 TH;X-APPLE-RADIUS=500;X-TITLE=Ds. Offerhausweg 7a:geo:5.9379801,53.130836
END:VEVENT
END:VCALENDAR