BEGIN:VCALENDAR
VERSION:2.0
PRODID:-//It Fryske Gea - ECPv6.14.2//NONSGML v1.0//EN
CALSCALE:GREGORIAN
METHOD:PUBLISH
X-ORIGINAL-URL:https://www.itfryskegea.nl
X-WR-CALDESC:Evenementen voor It Fryske Gea
REFRESH-INTERVAL;VALUE=DURATION:PT1H
X-Robots-Tag:noindex
X-PUBLISHED-TTL:PT1H
BEGIN:VTIMEZONE
TZID:Europe/Amsterdam
BEGIN:DAYLIGHT
TZOFFSETFROM:+0100
TZOFFSETTO:+0200
TZNAME:CEST
DTSTART:20260329T010000
END:DAYLIGHT
BEGIN:STANDARD
TZOFFSETFROM:+0200
TZOFFSETTO:+0100
TZNAME:CET
DTSTART:20261025T010000
END:STANDARD
END:VTIMEZONE
BEGIN:VEVENT
DTSTART;TZID=Europe/Amsterdam:20260620T140000
DTEND;TZID=Europe/Amsterdam:20260620T160000
DTSTAMP:20260419T160736
CREATED:20260305T153417Z
LAST-MODIFIED:20260403T085921Z
UID:10000409-1781964000-1781971200@www.itfryskegea.nl
SUMMARY:De zomer tegemoet op de Ryptsjerksterpolder (8+)
DESCRIPTION:Een weids uitzicht en veel verschillende planten en dieren\, dat vind je in de Ryptsjerksterpolder. Trek je laarzen aan en ga mee op pad in dit bijzondere gebied vlakbij Leeuwarden! \nBiodiversiteit\nDe Ryptsjerksterpolder is een laaggelegen veenweidegebied en onderdeel van natuurgebied De Grutte Wielen. Door de vroegere veenwinning is dit nu een waterrijk gebied waar veel planten en dieren zich thuisvoelen. Zo vind je hier de gele bloemen van de dotterbloem en grote ratelaar. Ook leven er verschillende insecten\, zoals libellen. Deze rijkdom aan verschillende planten en dieren is goed voor de natuur en wordt ‘biodiversiteit’ genoemd. \nZomerse natuurschatten\nWe beginnen de wandeling van 4 kilometer met een prachtig uitzicht over de polders.\nOp een deel van de graslanden in de polder\, de zogenaamde zomerpolders\, wordt tussen half oktober en half maart een laagje water gezet. Hierdoor voelen duizenden ganzen zich hier ’s winters thuis; ze vinden er voedsel en rust. In het voorjaar zie je hier grote aantallen weidevogels\, zoals de grutto\, tureluur en veldleeuwerik. In het riet broeden soorten als bruine kiekendief\, baardmannetje en blauwborst. Genoeg om naar op zoek te gaan dus! De excursieleidster kent het gebied op haar duimpje en kan boeiende verhalen vertellen. Ook zetten we alle zintuigen op scherp\, naast zien is er van alles te horen\, voelen en ruiken in de Fryske natoer! Wat we precies waarnemen is altijd een verrassing\, maar een avontuur wordt het zeker! Ga je mee? \nPraktische tips\n\nTrek laarzen en kleding die vies mag worden aan.\nHet is muggenseizoen\, trek kleding met lange mouwen en broekspijpen aan en neem eventueel muggenspray mee.\nVergeet je verrekijker niet!\nPake\, beppe of je ouders gaan uiteraard mee. Ook zij zullen vast iets leren!\nNiet rolstoeltoegankelijk.\nDeelname is op eigen risico.\n\n  \nAls je je inschrijft voor een activiteit\, dan ga je akkoord met onze activiteitenvoorwaarden.
URL:https://www.itfryskegea.nl/activiteiten/de-zomer-tegemoet-op-de-ryptsjerksterpolder-6/
LOCATION:nabij Westerdijk 23\, Gytsjerk\, Friesland\, 9256 HV\, Netherlands
CATEGORIES:Jeugdactiviteit
ATTACH;FMTTYPE=image/jpeg:https://www.itfryskegea.nl/wp-content/uploads/2024/03/Zichtbeeld_uitkijkpunt_Ryptsjerksterpolder.jpg
ORGANIZER;CN="Janneke Slump":MAILTO:janneke.slump@gmail.com
GEO:53.227803;5.902643
X-APPLE-STRUCTURED-LOCATION;VALUE=URI;X-ADDRESS=nabij Westerdijk 23 Gytsjerk Friesland 9256 HV Netherlands;X-APPLE-RADIUS=500;X-TITLE=nabij Westerdijk 23:geo:5.902643,53.227803
END:VEVENT
BEGIN:VEVENT
DTSTART;TZID=Europe/Amsterdam:20260627T100000
DTEND;TZID=Europe/Amsterdam:20260627T113000
DTSTAMP:20260419T160736
CREATED:20251010T113847Z
LAST-MODIFIED:20260403T090457Z
UID:10000277-1782554400-1782559800@www.itfryskegea.nl
SUMMARY:Ontdek de cultuurhistorie van Park Martenastate
DESCRIPTION:Waan je in de middeleeuwen tijdens een excursie door Park Martenastate. Een gids van It Fryske Gea neemt je tijdens deze excursie mee door de oude toegangspoort naar het historische park van Koarnjum\, langs de slotgracht\, het landhuis van de familie Martena\, de lindelaan en de laatste bloeiende stinzenplanten. \nStaten en stinzen\nOp de meeste Friese terpen stond in de middeleeuwen een bewoonbare stenen toren die gebruikt werd ter verdediging\, een stins. Later werden die stinzen door adellijke families vaak omgebouwd tot staten: luxueuze buitenplaatsen met mooi aangelegde tuinen. Een aantal daarvan zijn goed bewaard gebleven: de Martenastate in Koarnjum is er zo één. De state zelf is niet voor publiek toegankelijk\, maar het park rondom wel en de excursieleider van It Fryske Gea weet alles over de interessante cultuurhistorie van dit landgoed. \nNatuurlijke Engelse tuinen\nOnder leiding van de gids wandel je over het stateterrein met rondom brede sloten en aan de noordzijde een grote vijverpartij. Het ontwerp van het park wordt aan Roodbaard toegeschreven\, een tuinarchitect die erg in trek was bij de Friese edelen in de negentiende eeuw. Door de opkomst van de natuurlijke Engelse tuinen met hun slingerpaden\, kreeg de aanplant van stinsenplanten in die tijd een grote impuls. Vandaag de dag zijn ze er nog: in mei kun je de bloemen van het haarlems klokkenspel bewonderen. \nPraktische tips van It Fryske Gea\n\nDeze excursie duurt ongeveer 2 uren.\nJe maakt een korte wandeling door het park.\nHet kan fris zijn\, dus trek voldoende laagjes kleding aan. Want je weet: er bestaat geen slecht weer\, alleen slechte kleding!\nNeem een portemonnee mee om naderhand een kopje thee in de Túnmanswente te kunnen nuttigen\, dit is geen onderdeel van de excursie.\nDeelname is op eigen risico.\n\n  \nAls je je inschrijft voor een activiteit\, dan ga je akkoord met onze activiteitenvoorwaarden.
URL:https://www.itfryskegea.nl/activiteiten/ontdek-de-cultuurhistorie-van-park-martenastate-3/
LOCATION:Martenawei 2\, Cornjum\, Friesland\, 9056 PE
CATEGORIES:Wandelen
ATTACH;FMTTYPE=image/jpeg:https://www.itfryskegea.nl/wp-content/uploads/2025/04/martenastate_cultuur0001.jpg
ORGANIZER;CN="Aad van der Burg":MAILTO:aadvanderburgczn@gmail.com
GEO:53.243955;5.782375
X-APPLE-STRUCTURED-LOCATION;VALUE=URI;X-ADDRESS=Martenawei 2 Cornjum Friesland 9056 PE;X-APPLE-RADIUS=500;X-TITLE=Martenawei 2:geo:5.782375,53.243955
END:VEVENT
BEGIN:VEVENT
DTSTART;TZID=Europe/Amsterdam:20260628T103000
DTEND;TZID=Europe/Amsterdam:20260628T123000
DTSTAMP:20260419T160736
CREATED:20260319T141524Z
LAST-MODIFIED:20260403T090809Z
UID:10000419-1782642600-1782649800@www.itfryskegea.nl
SUMMARY:Fotografie-excursie voor kids in de Bouwepet (8+)
DESCRIPTION:Wuivend riet\, kleurrijke libellen boven het water en bijzondere vergezichten. Al wandelend door (een klein stukje van) het stroomdallandschap van de Bouwepet gaan we op zoek naar mooie plekjes om kiekjes te maken. Trek je laarzen aan en ga mee! \nVeel verschillende soorten planten en dieren\nHet Bûtefjild is een gevarieerd gebied: je vindt er verschillende landschappen\, zoals graslanden\, open waterplassen én een restant van een oorspronkelijk veenstroompje; de Bouwepet. En daar gaan we op ontdekking! De grote variatie in het Bûtenfjild zorgt voor veel verschillende planten en dieren. In de Bouwepet vind je bijvoorbeeld riet\, lisdodde\, zwarte els en grauwe wilg. Ook maken verschillende soorten (moeras)vogels hier hun nest. Het stroomdal is duizenden jaren geleden ontstaan\, tijdens de laatste ijstijd. Dit verklaart ook het voorkomen van vele zwerfkeien in de bodem. Een prachtig landschap voor deze excursie! \nOp zoek naar natuurcadeautjes om te fotograferen\nTijdens de excursie gaan we op zoek naar verschillende soorten planten en dieren om foto’s van te maken. We wandelen zo’n 4 kilometer en staan regelmatig stil als we een mooi ‘natuurcadeautje’ tegenkomen\, om een foto van te maken en als herinnering te bewaren. De excursieleidster kent het gebied goed en kan als enthousiast hobbyfotograaf tips geven voor de mooiste kiekjes. Dus houd je van de natuur en fotograferen? Geef je op en neem je camera of smartphone mee! Wees niet bang voor vieze kleding\, want de mooiste foto’s maak je soms liggend op het gras. \nPraktische tips\n\nTrek laarzen en kleding die vies mag worden aan.\nNeem iets te eten en drinken mee\, we gaan gezellig samen lunchen in de natuur.\nHet is muggenseizoen\, trek kleding met lange mouwen en broekspijpen aan en neem eventueel muggenspray mee.\nPake\, beppe of je ouders gaan uiteraard mee. Ook zij zullen vast iets leren!\nDeelname is op eigen risico.\n\n  \nAls je je inschrijft voor een activiteit\, dan ga je akkoord met onze activiteitenvoorwaarden.
URL:https://www.itfryskegea.nl/activiteiten/fotografie-excursie-voor-kids-in-de-bouwepet-butefjild-8/
LOCATION:Halligenweg 14\, Mûnein\, Friesland\, 9063 DX\, Netherlands
CATEGORIES:Jeugdactiviteit
ATTACH;FMTTYPE=image/webp:https://www.itfryskegea.nl/wp-content/uploads/2024/07/Bouwepet-3.webp
ORGANIZER;CN="Janneke Slump":MAILTO:janneke.slump@gmail.com
GEO:53.244537;5.924731
X-APPLE-STRUCTURED-LOCATION;VALUE=URI;X-ADDRESS=Halligenweg 14 Mûnein Friesland 9063 DX Netherlands;X-APPLE-RADIUS=500;X-TITLE=Halligenweg 14:geo:5.924731,53.244537
END:VEVENT
BEGIN:VEVENT
DTSTART;TZID=Europe/Amsterdam:20260718T100000
DTEND;TZID=Europe/Amsterdam:20260718T113000
DTSTAMP:20260419T160736
CREATED:20251010T114558Z
LAST-MODIFIED:20260403T093421Z
UID:10000278-1784368800-1784374200@www.itfryskegea.nl
SUMMARY:Ontdek de cultuurhistorie van Park Martenastate
DESCRIPTION:Waan je in de middeleeuwen tijdens een excursie door Park Martenastate. Een gids van It Fryske Gea neemt je tijdens deze excursie mee door de oude toegangspoort naar het historische park van Koarnjum\, langs de slotgracht\, het landhuis van de familie Martena\, de lindelaan en de laatste bloeiende stinzenplanten. \nStaten en stinzen\nOp de meeste Friese terpen stond in de middeleeuwen een bewoonbare stenen toren die gebruikt werd ter verdediging\, een stins. Later werden die stinzen door adellijke families vaak omgebouwd tot staten: luxueuze buitenplaatsen met mooi aangelegde tuinen. Een aantal daarvan zijn goed bewaard gebleven: de Martenastate in Koarnjum is er zo één. De state zelf is niet voor publiek toegankelijk\, maar het park rondom wel en de excursieleider van It Fryske Gea weet alles over de interessante cultuurhistorie van dit landgoed. \nNatuurlijke Engelse tuinen\nOnder leiding van de gids wandel je over het stateterrein met rondom brede sloten en aan de noordzijde een grote vijverpartij. Het ontwerp van het park wordt aan Roodbaard toegeschreven\, een tuinarchitect die erg in trek was bij de Friese edelen in de negentiende eeuw. Door de opkomst van de natuurlijke Engelse tuinen met hun slingerpaden\, kreeg de aanplant van stinsenplanten in die tijd een grote impuls. Vandaag de dag zijn ze er nog: in mei kun je de bloemen van het haarlems klokkenspel bewonderen. \nPraktische tips van It Fryske Gea\n\nDeze excursie duurt ongeveer 2 uren.\nJe maakt een korte wandeling door het park.\nHet kan fris zijn\, dus trek voldoende laagjes kleding aan. Want je weet: er bestaat geen slecht weer\, alleen slechte kleding!\nNeem een portemonnee mee om naderhand een kopje thee in de Túnmanswente te kunnen nuttigen\, dit is geen onderdeel van de excursie.\nDeelname is op eigen risico.\n\n  \nAls je je inschrijft voor een activiteit\, dan ga je akkoord met onze activiteitenvoorwaarden.
URL:https://www.itfryskegea.nl/activiteiten/ontdek-de-cultuurhistorie-van-park-martenastate-4/
LOCATION:Martenawei 2\, Cornjum\, Friesland\, 9056 PE
CATEGORIES:Wandelen
ATTACH;FMTTYPE=image/jpeg:https://www.itfryskegea.nl/wp-content/uploads/2025/04/martenastate_cultuur0001.jpg
ORGANIZER;CN="Pieter van der Werff":MAILTO:pietervdwerff1@gmail.com
GEO:53.243955;5.782375
X-APPLE-STRUCTURED-LOCATION;VALUE=URI;X-ADDRESS=Martenawei 2 Cornjum Friesland 9056 PE;X-APPLE-RADIUS=500;X-TITLE=Martenawei 2:geo:5.782375,53.243955
END:VEVENT
END:VCALENDAR