BEGIN:VCALENDAR
VERSION:2.0
PRODID:-//It Fryske Gea - ECPv6.14.2//NONSGML v1.0//EN
CALSCALE:GREGORIAN
METHOD:PUBLISH
X-WR-CALNAME:It Fryske Gea
X-ORIGINAL-URL:https://www.itfryskegea.nl
X-WR-CALDESC:Evenementen voor It Fryske Gea
REFRESH-INTERVAL;VALUE=DURATION:PT1H
X-Robots-Tag:noindex
X-PUBLISHED-TTL:PT1H
BEGIN:VTIMEZONE
TZID:Europe/Amsterdam
BEGIN:DAYLIGHT
TZOFFSETFROM:+0100
TZOFFSETTO:+0200
TZNAME:CEST
DTSTART:20250330T010000
END:DAYLIGHT
BEGIN:STANDARD
TZOFFSETFROM:+0200
TZOFFSETTO:+0100
TZNAME:CET
DTSTART:20251026T010000
END:STANDARD
END:VTIMEZONE
BEGIN:VEVENT
DTSTART;TZID=Europe/Amsterdam:20250518T140000
DTEND;TZID=Europe/Amsterdam:20250518T160000
DTSTAMP:20260421T043735
CREATED:20250404T085701Z
LAST-MODIFIED:20250516T131241Z
UID:10000016-1747576800-1747584000@www.itfryskegea.nl
SUMMARY:Natuurfotografie voor kids in It Wikelslân (8+)
DESCRIPTION:Wuivende rietvelden\, smalle petgaten\, bloemen\, reeën\, sporen van otters en vele soorten vogels. Er is vanalles te zien en fotograferen in Nationaal Park De Alde Feanen. Dus trek je laarzen aan\, neem een fototoestel mee en kom naar deze interessante en leerzame fotografie-excursie! \nRijke flora en fauna\nIn het Nationaal Park komen zo’n 450 plantensoorten voor en broeden ruim 100 soorten vogels. Er leven 200 reeën en met een beetje geluk spotten we sporen van de otter. Ook vind je er mooie doorkijkjes in het riet en kun je vanaf de uitkijktoren het hele gebied overzien (en fotograferen). It Wikelslân is een prachtig deel van Nationaal Park De Alde Feanen in het midden van Friesland. Je struint tijdens deze excursie over onverharde paden en houten vlonders. Trek âlde klean aan die vies mogen worden en je hebt de dag van je leven! \nLeuk én leerzaam!\nWe gaan er al wandelend op uit en ontdekken de natuur vanachter een cameralens. Onze natuurgids en hobbyfotograaf kent It Wikelslân op zijn duimpje en vertelt hier graag over.\nHij leert de kids écht goed naar planten\, dieren en landschappen te kijken en deze op creatieve wijze vast te leggen. Uiteraard kent de gids de mooiste plekjes! Spelen met weerspiegeling\, reflectie en tegenlicht wordt zo nog leuker. Met de camera in de aanslag nemen we alles onder de loep. \nPraktische tips van It Fryske Gea\n\nDeze excursie duurt ongeveer 2 uren\nDe excursie is geschikt voor kids tussen 8 en 14 jaar\nBeschik je niet over een spiegelreflex-\, systeem-\, of compactcamera? Met de meeste smartphones kun je tegenwoordig ook goede foto’s maken!\nTrek laarzen aan\nTrek voldoende laagjes kleding aan. Want je weet: er bestaat geen slecht weer\, alleen slechte kleding!
URL:https://www.itfryskegea.nl/activiteiten/natuurfotografie-voor-kids-in-it-wikelslan-8/
LOCATION:Dominee Bolleman van der Veenweg\, Earnewâld\, Nationaal Park De Alde Feanen\, 9264 TA
CATEGORIES:Fotografie,Jeugdactiviteit
ATTACH;FMTTYPE=image/jpeg:https://www.itfryskegea.nl/wp-content/uploads/2025/04/jeugd-fotografie.jpg
ORGANIZER;CN="Jan de Boer (Leeuwarden)":MAILTO:jtfdeboer@gmail.com
GEO:53.134919;5.938052
X-APPLE-STRUCTURED-LOCATION;VALUE=URI;X-ADDRESS=Dominee Bolleman van der Veenweg Earnewâld Nationaal Park De Alde Feanen 9264 TA;X-APPLE-RADIUS=500;X-TITLE=Dominee Bolleman van der Veenweg:geo:5.938052,53.134919
END:VEVENT
BEGIN:VEVENT
DTSTART;TZID=Europe/Amsterdam:20250503T133000
DTEND;TZID=Europe/Amsterdam:20250503T160000
DTSTAMP:20260421T043735
CREATED:20250404T080851Z
LAST-MODIFIED:20250507T134536Z
UID:10000012-1746279000-1746288000@www.itfryskegea.nl
SUMMARY:Zeearend en visarend spotten tijdens vaartocht de Alde Feanen
DESCRIPTION:De Alde Feanen worden door kenners gezien als één van de mooiste moerasgebieden van Noordwest Europa. Niet zo gek dus dat het waterrijke midden van Friesland in 2006 werd aangewezen als Nationaal Park. In dit vis- en vogelrijke gebied voelen ook de zeearend en visarend zich thuis! \nRijke flora en fauna\nDit Nationaal Park is een enorm laagveenmoeras van bijna 4.000 hectare met uitgestrekte rietvelden\, moerasbossen en smalle plassen die door de veenwinning ontstonden; ook wel petgaten genoemd. In dit vis- en vogelrijke gebied\, voelen de zeearend en visarend zich thuis. Daarnaast biedt de Alde Feanen plek aan 450 plantensoorten en broeden er 100 soorten vogels. Genoeg te zien dus! \nNatuurexcursie op zonneboot\nIt Fryske Gea zorgt voor de natuur in de Alde Feanen en is eigenaar van ‘de Blaustirns’\, een op zonne-energie varende boot. Ga mee op een duurzame excursie en geniet in alle stilte van de waterrijke natuur. Vanaf het open bovendek heb je steeds een prachtig uitzicht. Beneden kun je comfortabel zitten\, iets leren van de natuurgids over de flora en fauna om je heen en een warm drankje nuttigen. Vergeet je verrekijker niet! \nVliegende deur\nDe zeearend is de grootste roofvogel die in Nederland voorkomt. Met een spanwijdte van 240 centimeter wordt hij niet voor niets ‘de vliegende deur’ genoemd. It Fryske Gea is dan ook trots dat er sinds 2017 een paar zeearenden broedt in de Alde Feanen. In het voorjaar kun je het wel en wee op het nest live volgen via een nestcam. Dankzij voldoende voedsel en rust voelen deze imposante vogels zich hier thuis. \nVoldoende voedsel en rust zijn ook voor de visarend van belang. Zoals zijn naam doet vermoeden\, jaagt deze roofvogel voornamelijk op vis. Je herkent deze slanke vogel aan zijn lange\, geknikte vleugels. Tijdens de doortrek naar zijn broed- of overwinteringsgebied wordt de vogel regelmatig in de Alde Feanen gezien. \nPraktische tips van It Fryske Gea\n\nVergeet niet om een warme jas en verrekijker mee te nemen\nNeem wat contant geld mee voor koffie of thee aan boord\nDeelname is op eigen risico.\nEr zijn zwemvesten voor kinderen aanwezig.\nKinderen kunnen alleen deelnemen onder begeleiding van een ouder of verzorger.\n\nVaar mee op de zonneboot en ontdek Nationaal Park De Alde Feanen zoals het hoort: vanaf het water!
URL:https://www.itfryskegea.nl/activiteiten/zeearend-en-visarend-spotten-tijdens-vaartocht-de-alde-feanen/
LOCATION:Zie routebeschrijving\, Earnewald\, Friesland\, 9264 TM\, Netherlands
CATEGORIES:Jeugdactiviteit,Varen
ATTACH;FMTTYPE=image/jpeg:https://www.itfryskegea.nl/wp-content/uploads/2025/03/zeearend.jpg
ORGANIZER;CN="Klaas Elzinga":MAILTO:k.elzinga@focussys.nl
GEO:53.127922;5.935862
X-APPLE-STRUCTURED-LOCATION;VALUE=URI;X-ADDRESS=Zie routebeschrijving Earnewald Friesland 9264 TM Netherlands;X-APPLE-RADIUS=500;X-TITLE=Zie routebeschrijving:geo:5.935862,53.127922
END:VEVENT
BEGIN:VEVENT
DTSTART;TZID=Europe/Amsterdam:20250502T140000
DTEND;TZID=Europe/Amsterdam:20250502T160000
DTSTAMP:20260421T043735
CREATED:20250404T075728Z
LAST-MODIFIED:20250506T115521Z
UID:10000011-1746194400-1746201600@www.itfryskegea.nl
SUMMARY:Workshop insectenhotel bouwen in Earnewâld (6+)
DESCRIPTION:Heb jij een bezig bijtje van 6 jaar of ouder thuis? Dan is deze activiteit zeker een aanrader! Samen met onze enthousiaste natuurgids gaan de kinderen op onderzoek uit in Nationaal Park De Alde Feanen en bouwen hun eigen insectenhotel. \nThuisbasis voor insecten\nIn Nationaal Park De Alde Feanen komen 450 plantensoorten voor\, deze planten lokken weer verschillende insecten naar het natuurgebied. Dé ideale plek dus om meer te leren over deze kriebelige beestjes. Waar wonen ze en wat doen ze voor ons? Denk bijvoorbeeld aan de bij\, die gaat van bloem tot bloem en helpt zo een soort in stand te houden. \nDe natuur een handje helpen\nEerst gaan we de natuur in om materialen te verzamelen\, zoals holle rietstengels en bladeren\, hiermee maak je vervolgens je eigen insectenhotel. Een plek waar insecten beschutting kunnen zoeken\, of overwinteren. Zo help je de natuur een handje! \nWanneer je hotel klaar is\, kun je hem thuis ophangen. Kies hiervoor een zonnige plek waar de insecten niet te veel last hebben van de wind. En let op de richting\, hang hem niet richting het zuidwesten\, want dan regent het naar binnen! \nPraktische tips van It Fryske Gea\n\ndraag kleding die tegen een stootje kan en vies mag worden\nkinderen kunnen alleen deelnemen onder begeleiding van een ouder of verzorger\ndeelname is op eigen risico
URL:https://www.itfryskegea.nl/activiteiten/workshop-insectenhotel-bouwen-in-earnewald-6/
LOCATION:Wiidswei 32\, Earnewâld\, Nationaal Park De Alde Feanen\, 9264 TM
CATEGORIES:Jeugdactiviteit
ATTACH;FMTTYPE=image/jpeg:https://www.itfryskegea.nl/wp-content/uploads/2025/04/bijenhotel.jpg
ORGANIZER;CN="Saskia Barentsen":MAILTO:saskia.barentsen@gmail.com
GEO:53.1297152;5.9379801
X-APPLE-STRUCTURED-LOCATION;VALUE=URI;X-ADDRESS=Wiidswei 32 Earnewâld Nationaal Park De Alde Feanen 9264 TM;X-APPLE-RADIUS=500;X-TITLE=Wiidswei 32:geo:5.9379801,53.1297152
END:VEVENT
BEGIN:VEVENT
DTSTART;TZID=Europe/Amsterdam:20250502T103000
DTEND;TZID=Europe/Amsterdam:20250502T113000
DTSTAMP:20260421T043735
CREATED:20250404T073956Z
LAST-MODIFIED:20250506T115613Z
UID:10000007-1746181800-1746185400@www.itfryskegea.nl
SUMMARY:Peuter/kleuter struintocht door de natuur (2-6 jaar)
DESCRIPTION:Trek je laarzen aan en kom struinen door Nationaal Park De Alde Feanen! Deze struintocht is helemaal gericht op de jongste avonturiers. De natuurgidsen laten ze de natuur ontdekken aan de hand van spelletjes en speurtochten naar diertjes. \nLiefde voor de natuur\nMet de liefde voor de natuur overbrengen kun je niet jong genoeg beginnen! Daarom organiseren wij deze speciale excursie voor de allerkleinsten. Samen met de natuurgidsen gaan jullie op ontdekking in educatiebos Pettebosk in Nationaal Park De Alde Feanen. Een plek die speciaal is ingericht voor educatie en van de paden gaan is toegestaan! \nKleine kriebelbeestjes\nWe ontdekken wat er leeft in het bos. Met handige loeppotjes en andere materialen worden de kinderen op een speelse manier meegenomen in de wereld van de kriebelbeestjes en andere dieren die leven in de Alde Feanen. \nPraktische tips\n\ndraag kleding die tegen een stootje kan en vies mag worden\nkinderen kunnen alleen deelnemen onder begeleiding van een ouder of verzorger\ndeelname is op eigen risico\nhet is muggenseizoen! Ook bij warm weer is bedekkende kleding (en eventueel meenemen van muggenspray) een aanrader.
URL:https://www.itfryskegea.nl/activiteiten/peuter-kleuter-struintocht-door-de-natuur-2-6-jaar/
LOCATION:Koaidyk 2b\, Earnewald\, Nationaal Park De Alde Feanen\, 9264 TT
CATEGORIES:Jeugdactiviteit
ATTACH;FMTTYPE=image/jpeg:https://www.itfryskegea.nl/wp-content/uploads/2025/04/peuter-kleuter.jpg
ORGANIZER;CN="Antje Postma":MAILTO:antje.postma@bart.nl
GEO:53.130327;5.956035
X-APPLE-STRUCTURED-LOCATION;VALUE=URI;X-ADDRESS=Koaidyk 2b Earnewald Nationaal Park De Alde Feanen 9264 TT;X-APPLE-RADIUS=500;X-TITLE=Koaidyk 2b:geo:5.956035,53.130327
END:VEVENT
BEGIN:VEVENT
DTSTART;TZID=Europe/Amsterdam:20250501T133000
DTEND;TZID=Europe/Amsterdam:20250501T153000
DTSTAMP:20260421T043735
CREATED:20250404T064411Z
LAST-MODIFIED:20250507T134509Z
UID:10000006-1746106200-1746113400@www.itfryskegea.nl
SUMMARY:Roofvogels spotten voor kids vanaf het water (10+)
DESCRIPTION:Speciaals voor jonge vogelaars organiseren we een vaarexcursie over roofvogels. Deze prachtige imposante dieren leven graag in de rietlanden\, moerasbossen en bloemrijke graslanden van Nationaal Park De Alde Feanen. De natuurgids vertelt de kinderen waarop ze moeten letten en hoe je de dieren kunt onderscheiden. En wie weet spotten we de zeearend! \nRoofvogels in Nationaal Park De Alde Feanen\nIn de Alde Feanen leven verschillende roofvogels\, zoals de buizerd\, bruine kiekendief en torenvalk. En niet te vergeten de zeearend! In de verte lijken roofvogels veel op elkaar\, maar met wat tips van de excursieleider word je al gauw een echte vogelaar! Zo heeft de zeearend brede en rechte vleugels met ‘vingers’ aan de uiteinden\, de kiekendief heeft zijn vleugels in een v-vorm en de torenvalk is een stuk kleiner en heeft een langere staart. \nZonneboot de Blaustirns\nWe varen met elektrische zonneboot de Blaustirns in stilte door het gebied\, zo verstoren we de natuur minder. De kans om de zeearend te zien is vanaf het water bovendien een stuk groter! Vanaf het open bovendek heb je een prachtig uitzicht en kun je de omgeving goed afspeuren. Benedendeks is plek om te zitten\, hier zal de natuurgids de excursie beginnen met een verhaal over de Alde Feanen en planten en dieren die er leven. Ook kun je hier een drankje kopen. \nPraktische tips van It Fryske Gea\n\nvergeet niet om een warme jas en verrekijker mee te nemen\nneem contant geld mee voor koffie of thee (en ranja) aan boord\ndeelname is op eigen risico\ner zijn zwemvesten aanwezig aan boord\nkinderen kunnen alleen deelnemen onder begeleiding van een ouder of verzorger.\n\nInteresse?\nMeld je uiterlijk een dag van te voren aan (tot 15.00u) via onderstaand formulier. Bij vragen\, bel 0511 – 53 96 18 (alleen tijdens kantooruren).
URL:https://www.itfryskegea.nl/activiteiten/roofvogels-spotten-voor-kids-vanaf-het-water-10/
LOCATION:Zie routebeschrijving\, Earnewald\, Friesland\, 9264 TM\, Netherlands
CATEGORIES:Jeugdactiviteit,Varen
ATTACH;FMTTYPE=image/jpeg:https://www.itfryskegea.nl/wp-content/uploads/2024/07/vaarexcursie-alde-feanen-1-1.jpg
ORGANIZER;CN="Jitske Wedman":MAILTO:jitskewedman@hetnet.nl
GEO:53.127922;5.935862
X-APPLE-STRUCTURED-LOCATION;VALUE=URI;X-ADDRESS=Zie routebeschrijving Earnewald Friesland 9264 TM Netherlands;X-APPLE-RADIUS=500;X-TITLE=Zie routebeschrijving:geo:5.935862,53.127922
END:VEVENT
END:VCALENDAR