BEGIN:VCALENDAR
VERSION:2.0
PRODID:-//It Fryske Gea - ECPv6.14.2//NONSGML v1.0//EN
CALSCALE:GREGORIAN
METHOD:PUBLISH
X-WR-CALNAME:It Fryske Gea
X-ORIGINAL-URL:https://www.itfryskegea.nl
X-WR-CALDESC:Evenementen voor It Fryske Gea
REFRESH-INTERVAL;VALUE=DURATION:PT1H
X-Robots-Tag:noindex
X-PUBLISHED-TTL:PT1H
BEGIN:VTIMEZONE
TZID:Europe/Amsterdam
BEGIN:DAYLIGHT
TZOFFSETFROM:+0100
TZOFFSETTO:+0200
TZNAME:CEST
DTSTART:20250330T010000
END:DAYLIGHT
BEGIN:STANDARD
TZOFFSETFROM:+0200
TZOFFSETTO:+0100
TZNAME:CET
DTSTART:20251026T010000
END:STANDARD
END:VTIMEZONE
BEGIN:VEVENT
DTSTART;TZID=Europe/Amsterdam:20251209T100000
DTEND;TZID=Europe/Amsterdam:20251209T120000
DTSTAMP:20260419T173120
CREATED:20250618T143142Z
LAST-MODIFIED:20251208T083808Z
UID:10000171-1765274400-1765281600@www.itfryskegea.nl
SUMMARY:Kijk achter de schermen bij eendenkooi Buismanskoai bij Piaam
DESCRIPTION:Benieuwd hoe wilde eenden vroeger werden gevangen? De Buismanskoai bij Piaam aan de Friese IJsselmeerkust is een boeiend stukje cultureel erfgoed. Deze eeuwenoude eendenkooi is alleen toegankelijk met een gids van natuurorganisatie It Fryske Gea. Dus wil je letterlijk eens achter de schermen kijken\, grijp dan nu je kans! \nHet geheim van eendenkooien\nEen bomeneiland in een grote groene zee… zo ziet de voormalige eendenkooi in het open landschap bij Piaam er van een afstandje uit. In Fryslân en andere laaggelegen delen van Nederland moeten vroeger honderden van dit soort mysterieuze bosjes – met in het midden een waterplas – hebben gestaan. Eendenkooien werden in ieder geval vanaf de 15e eeuw gebruikt om wilde eenden met hulp van lokeenden en een kooikerhondje te vangen. Zodra de eenden ‘de pijp uit’ gingen werden ze als delicatesse verorberd of verkocht. Het bezitten van een eendenkooi was ooit een statussymbool van rijke Friezen: met een eendenkooi was je altijd verzekerd van verse eendenbout. \nVanginstallatie wordt natuurgebied\nEinekoaien werden van natuurlijke materialen als wilgentakken gemaakt\, zodoende dat de meeste kooien vergaan zijn. Er zijn er echter enkele bewaard gebleven\, waaronder de Buismanskoai bij Piaam\, aan de oostkant van het IJsselmeer\, vernoemd naar de laatste particuliere eigenaar van de kooi. Buisman was bestuurslid van It Fryske Gea en liet enkele eendenkooien aan de natuurvereniging na. It Fryske Gea zorgt ervoor dat het systeem van schermen en vangpijpen als cultureel erfgoed behouden blijft. Er worden tegenwoordig geen vogels meer gevangen\, het is nu een beschermd rustgebied voor watervogels en bosvogels\, daarnaast is het een levend monument van een eeuwenoud gebruik. \nVanuit de vogelkijkhut\nTijdens deze excursie bezoek je ook de plek waar de wilde eenden vroeger vandaan werden gelokt: het IJsselmeer. Vanuit vogelkijkhut De Ral zie je – zonder ze te storen – krakeenden\, knobbelzwanen\, bergeenden\, slobeenden\, lepelaars en verschillende soorten ganzen rondzwemmen. In wat water verzamelen ze hun voedsel. Soms is het water zo ondiep\, dat de wetterfûgels vergezeld worden door weidevogels als de grutto\, scholekster en kievit. \nPraktische tips van It Fryske Gea\n\nDeze culturele excursie duurt ongeveer 2 uren.\nJe legt in totaal ongeveer 2 kilometer af.\nDe excursie is alleen geschikt voor mensen die goed ter been zijn omdat je door een weiland moet lopen om bij de eendenkooi te komen.\nIn het weiland kan het gras hoog en nat zijn\, dus trek laarzen of stevige schoenen.\nTrek voldoende laagjes kleding aan. Want je weet: er bestaat geen slecht weer\, alleen slechte kleding!\nDeelname is op eigen risico: je kunt natuur-verslaafd raken!
URL:https://www.itfryskegea.nl/activiteiten/kijk-achter-de-schermen-bij-eendenkooi-buismanskoai-bij-piaam-3/
LOCATION:Kooireed\, Piaam\, Friesland\, Netherlands
CATEGORIES:Wandelen
ATTACH;FMTTYPE=image/jpeg:https://www.itfryskegea.nl/wp-content/uploads/2024/07/Buismanskoai_Piaam2.jpg
ORGANIZER;CN="Simon Haringsma":MAILTO:simon.haringsma@upcmail.nl
GEO:53.033087;5.409274
X-APPLE-STRUCTURED-LOCATION;VALUE=URI;X-ADDRESS=Kooireed Piaam Friesland Netherlands;X-APPLE-RADIUS=500;X-TITLE=Kooireed:geo:5.409274,53.033087
END:VEVENT
BEGIN:VEVENT
DTSTART;TZID=Europe/Amsterdam:20251014T100000
DTEND;TZID=Europe/Amsterdam:20251014T120000
DTSTAMP:20260419T173120
CREATED:20250618T142558Z
LAST-MODIFIED:20251013T124305Z
UID:10000170-1760436000-1760443200@www.itfryskegea.nl
SUMMARY:Kijk achter de schermen bij eendenkooi Buismanskoai bij Piaam
DESCRIPTION:Benieuwd hoe wilde eenden vroeger werden gevangen? De Buismanskoai bij Piaam aan de Friese IJsselmeerkust is een boeiend stukje cultureel erfgoed. Deze eeuwenoude eendenkooi is alleen toegankelijk met een gids van natuurorganisatie It Fryske Gea. Dus wil je letterlijk eens achter de schermen kijken\, grijp dan nu je kans! \nHet geheim van eendenkooien\nEen bomeneiland in een grote groene zee… zo ziet de voormalige eendenkooi in het open landschap bij Piaam er van een afstandje uit. In Fryslân en andere laaggelegen delen van Nederland moeten vroeger honderden van dit soort mysterieuze bosjes – met in het midden een waterplas – hebben gestaan. Eendenkooien werden in ieder geval vanaf de 15e eeuw gebruikt om wilde eenden met hulp van lokeenden en een kooikerhondje te vangen. Zodra de eenden ‘de pijp uit’ gingen werden ze als delicatesse verorberd of verkocht. Het bezitten van een eendenkooi was ooit een statussymbool van rijke Friezen: met een eendenkooi was je altijd verzekerd van verse eendenbout. \nVanginstallatie wordt natuurgebied\nEinekoaien werden van natuurlijke materialen als wilgentakken gemaakt\, zodoende dat de meeste kooien vergaan zijn. Er zijn er echter enkele bewaard gebleven\, waaronder de Buismanskoai bij Piaam\, aan de oostkant van het IJsselmeer\, vernoemd naar de laatste particuliere eigenaar van de kooi. Buisman was bestuurslid van It Fryske Gea en liet enkele eendenkooien aan de natuurvereniging na. It Fryske Gea zorgt ervoor dat het systeem van schermen en vangpijpen als cultureel erfgoed behouden blijft. Er worden tegenwoordig geen vogels meer gevangen\, het is nu een beschermd rustgebied voor watervogels en bosvogels\, daarnaast is het een levend monument van een eeuwenoud gebruik. \nVanuit de vogelkijkhut\nTijdens deze excursie bezoek je ook de plek waar de wilde eenden vroeger vandaan werden gelokt: het IJsselmeer. Vanuit vogelkijkhut De Ral zie je – zonder ze te storen – krakeenden\, knobbelzwanen\, bergeenden\, slobeenden\, lepelaars en verschillende soorten ganzen rondzwemmen. In wat water verzamelen ze hun voedsel. Soms is het water zo ondiep\, dat de wetterfûgels vergezeld worden door weidevogels als de grutto\, scholekster en kievit. \nPraktische tips van It Fryske Gea\n\nDeze culturele excursie duurt ongeveer 2 uren.\nJe legt in totaal ongeveer 2 kilometer af.\nDe excursie is alleen geschikt voor mensen die goed ter been zijn omdat je door een weiland moet lopen om bij de eendenkooi te komen.\nIn het weiland kan het gras hoog en nat zijn\, dus trek laarzen of stevige schoenen.\nTrek voldoende laagjes kleding aan. Want je weet: er bestaat geen slecht weer\, alleen slechte kleding!\nDeelname is op eigen risico: je kunt natuur-verslaafd raken!
URL:https://www.itfryskegea.nl/activiteiten/kijk-achter-de-schermen-bij-eendenkooi-buismanskoai-bij-piaam-2/
LOCATION:Kooireed\, Piaam\, Friesland\, Netherlands
CATEGORIES:Wandelen
ATTACH;FMTTYPE=image/jpeg:https://www.itfryskegea.nl/wp-content/uploads/2024/07/20160925_BSNF_01_DSC1637.jpg
ORGANIZER;CN="Lydia Barkema":MAILTO:lydiabarkema@home.nl
GEO:53.033087;5.409274
X-APPLE-STRUCTURED-LOCATION;VALUE=URI;X-ADDRESS=Kooireed Piaam Friesland Netherlands;X-APPLE-RADIUS=500;X-TITLE=Kooireed:geo:5.409274,53.033087
END:VEVENT
BEGIN:VEVENT
DTSTART;TZID=Europe/Amsterdam:20250914T130000
DTEND;TZID=Europe/Amsterdam:20250914T170000
DTSTAMP:20260419T173120
CREATED:20250908T072608Z
LAST-MODIFIED:20250908T072608Z
UID:10000263-1757854800-1757869200@www.itfryskegea.nl
SUMMARY:Open Monumentendag – Buismanskoai bij Piaam
DESCRIPTION:Ontdek tijdens Open Monumentendag de eeuwenoude eendenkooi bij Piaam. Deze verborgen parel in het landschap vertelt verhalen over de eeuwenlange relatie tussen mens en natuur. \nSamen met een gids van It Fryske Gea wandel je door het kooibosje en hoor je hoe de kooiker met geduld en vakmanschap de eenden wist te lokken. Onderweg kom je meer te weten over oude vangtechnieken\, het bijzondere Recht van Afpaling en de rol van de kooi in de Friese cultuur en voedselvoorziening. Ook de natuur staat centraal: de kooi en het bos zijn vandaag de dag een waardevol leefgebied voor vogels en andere dieren. \nLaat je verrassen door de combinatie van geschiedenis\, natuur en stilte in dit unieke stukje Fryslân. \n📅 Zondag 14 september 2025🕒 13.00 – 17.00 uur📍 Buismanskoai\, Piaam
URL:https://www.itfryskegea.nl/activiteiten/open-monumentendag-buismanskoai-bij-piaam/
LOCATION:Kooireed\, Piaam\, Friesland\, Netherlands
ATTACH;FMTTYPE=image/jpeg:https://www.itfryskegea.nl/wp-content/uploads/2024/10/dronefoto_Buismanskoai_Piaam.jpg
GEO:53.033087;5.409274
X-APPLE-STRUCTURED-LOCATION;VALUE=URI;X-ADDRESS=Kooireed Piaam Friesland Netherlands;X-APPLE-RADIUS=500;X-TITLE=Kooireed:geo:5.409274,53.033087
END:VEVENT
BEGIN:VEVENT
DTSTART;TZID=Europe/Amsterdam:20250902T140000
DTEND;TZID=Europe/Amsterdam:20250902T160000
DTSTAMP:20260419T173120
CREATED:20250618T141716Z
LAST-MODIFIED:20250901T103323Z
UID:10000258-1756821600-1756828800@www.itfryskegea.nl
SUMMARY:Kijk achter de schermen bij eendenkooi Buismanskoai bij Piaam
DESCRIPTION:Benieuwd hoe wilde eenden vroeger werden gevangen? De Buismanskoai bij Piaam aan de Friese IJsselmeerkust is een boeiend stukje cultureel erfgoed. Deze eeuwenoude eendenkooi is alleen toegankelijk met een gids van natuurorganisatie It Fryske Gea. Dus wil je letterlijk eens achter de schermen kijken\, grijp dan nu je kans! \nHet geheim van eendenkooien\nEen bomeneiland in een grote groene zee… zo ziet de voormalige eendenkooi in het open landschap bij Piaam er van een afstandje uit. In Fryslân en andere laaggelegen delen van Nederland moeten vroeger honderden van dit soort mysterieuze bosjes – met in het midden een waterplas – hebben gestaan. Eendenkooien werden in ieder geval vanaf de 15e eeuw gebruikt om wilde eenden met hulp van lokeenden en een kooikerhondje te vangen. Zodra de eenden ‘de pijp uit’ gingen werden ze als delicatesse verorberd of verkocht. Het bezitten van een eendenkooi was ooit een statussymbool van rijke Friezen: met een eendenkooi was je altijd verzekerd van verse eendenbout. \nVanginstallatie wordt natuurgebied\nEinekoaien werden van natuurlijke materialen als wilgentakken gemaakt\, zodoende dat de meeste kooien vergaan zijn. Er zijn er echter enkele bewaard gebleven\, waaronder de Buismanskoai bij Piaam\, aan de oostkant van het IJsselmeer\, vernoemd naar de laatste particuliere eigenaar van de kooi. Buisman was bestuurslid van It Fryske Gea en liet enkele eendenkooien aan de natuurvereniging na. It Fryske Gea zorgt ervoor dat het systeem van schermen en vangpijpen als cultureel erfgoed behouden blijft. Er worden tegenwoordig geen vogels meer gevangen\, het is nu een beschermd rustgebied voor watervogels en bosvogels\, daarnaast is het een levend monument van een eeuwenoud gebruik. \nVanuit de vogelkijkhut\nTijdens deze excursie bezoek je ook de plek waar de wilde eenden vroeger vandaan werden gelokt: het IJsselmeer. Vanuit vogelkijkhut De Ral zie je – zonder ze te storen – krakeenden\, knobbelzwanen\, bergeenden\, slobeenden\, lepelaars en verschillende soorten ganzen rondzwemmen. In wat water verzamelen ze hun voedsel. Soms is het water zo ondiep\, dat de wetterfûgels vergezeld worden door weidevogels als de grutto\, scholekster en kievit. \nPraktische tips van It Fryske Gea\n\nDeze culturele excursie duurt ongeveer 2 uren.\nJe legt in totaal ongeveer 2 kilometer af.\nDe excursie is alleen geschikt voor mensen die goed ter been zijn omdat je door een weiland moet lopen om bij de eendenkooi te komen.\nIn het weiland kan het gras hoog en nat zijn\, dus trek laarzen of stevige schoenen.\nTrek voldoende laagjes kleding aan. Want je weet: er bestaat geen slecht weer\, alleen slechte kleding!\nDeelname is op eigen risico: je kunt natuur-verslaafd raken!
URL:https://www.itfryskegea.nl/activiteiten/kijk-achter-de-schermen-bij-eendenkooi-buismanskoai-bij-piaam/
LOCATION:Kooireed\, Piaam\, Friesland\, Netherlands
CATEGORIES:Wandelen
ATTACH;FMTTYPE=image/jpeg:https://www.itfryskegea.nl/wp-content/uploads/2024/07/20160925_BSNF_01_DSC1637.jpg
ORGANIZER;CN="Wouter Schothorst":MAILTO:schothorst.wouter@gmail.com
GEO:53.033087;5.409274
X-APPLE-STRUCTURED-LOCATION;VALUE=URI;X-ADDRESS=Kooireed Piaam Friesland Netherlands;X-APPLE-RADIUS=500;X-TITLE=Kooireed:geo:5.409274,53.033087
END:VEVENT
BEGIN:VEVENT
DTSTART;TZID=Europe/Amsterdam:20250715T100000
DTEND;TZID=Europe/Amsterdam:20250715T120000
DTSTAMP:20260419T173120
CREATED:20250521T130834Z
LAST-MODIFIED:20250714T124146Z
UID:10000106-1752573600-1752580800@www.itfryskegea.nl
SUMMARY:Ontdek de geheimen van de Eendenkooi (6+)
DESCRIPTION:Weet jij waar het gezegde ‘achter de schermen’ vandaan komt? Ontdek het tijdens deze jeugdexcursie en ga mee terug in de tijd tijdens een bezoek aan de eendenkooi in Piaam. De Buismanskoai is normaal gesproken afgesloten\, maar voor jou maken we een uitzondering! Onze enthousiaste natuurgids neemt je graag mee in de geheimen van de eendenkooi en vertelt hierover prachtig! \nSluipen door bochtige vangpijpen\nVerborgen in het landschap herbergt zich op de plek van de eendenkooi veel geschiedenis. Vanaf de buitenkant zie je alleen hoge rietschermen\, waardoor je nooit weet wat er zich daar binnen afspeelt. Wil jij sluipen door de bochtige vangpijpen en ontdekken wat de geheimen van Buismanskoai zijn? \nMysterieuze plek\nEendenkooien zijn van oudsher mysterieuze plekken. Weet je waarom? Vroeger mocht niemand in zo’n eendenkooi komen. De kooiker\, degene die eenden ving in de eendenkooi\, hield niet van pottenkijkers. Om goed eenden te kunnen vangen moest het in de kooi namelijk heel erg rustig zijn. Hoe hij dit deed? Nou\, de grote kooiplas in het midden van de eendenkooi was een erg aantrekkelijke plek voor eenden om te overnachten. Ze voelden zich hier veilig\, maar wat ze niet wisten is dat om de plas verschillende vangpijpen zaten. Door het kooikerhondje werden de eenden dan ook opgejaagd en naar één van de vangpijpen gelokt. Hier ‘verstopte’ de kooiker zich achter de schermen\, zodat hij – wanneer de eenden steeds verder de pijp in zwommen – ze snel kon vangen! De eenden gingen letterlijk de pijp uit! \nPraktische tips van It Fryske Gea\n\nDeze excursie duurt ongeveer 2 uren.\nTrek goede schoenen aan\, de excursie gaat over onverharde paden.\nHet is muggenseizoen\, dus trek kleding met lange mouwen en lange pijpen aan of gebruik insectenspray.\nEen ouder of begeleider dient aanwezig te zijn.\nDeelname is op eigen risico: je kunt natuur-verslaafd raken!
URL:https://www.itfryskegea.nl/activiteiten/ontdek-de-geheimen-van-de-eendenkooi-6/
LOCATION:Kooireed\, Piaam\, Friesland\, Netherlands
CATEGORIES:Jeugdactiviteit,Uitgelicht
ATTACH;FMTTYPE=image/jpeg:https://www.itfryskegea.nl/wp-content/uploads/2025/05/DSC_2768_bw-scaled.jpg
ORGANIZER;CN="Simon Haringsma":MAILTO:simon.haringsma@upcmail.nl
GEO:53.033087;5.409274
X-APPLE-STRUCTURED-LOCATION;VALUE=URI;X-ADDRESS=Kooireed Piaam Friesland Netherlands;X-APPLE-RADIUS=500;X-TITLE=Kooireed:geo:5.409274,53.033087
END:VEVENT
BEGIN:VEVENT
DTSTART;TZID=Europe/Amsterdam:20250521T100000
DTEND;TZID=Europe/Amsterdam:20250521T120000
DTSTAMP:20260419T173120
CREATED:20250514T115305Z
LAST-MODIFIED:20250520T111601Z
UID:10000079-1747821600-1747828800@www.itfryskegea.nl
SUMMARY:Kijk achter de schermen bij eendenkooi Buimanskoai bij Piaam
DESCRIPTION:Benieuwd hoe wilde eenden vroeger werden gevangen? De Buismanskoai bij Piaam aan de Friese IJsselmeerkust is een boeiend stukje cultureel erfgoed. Deze eeuwenoude eendenkooi is alleen toegankelijk met een gids van natuurorganisatie It Fryske Gea. Dus wil je letterlijk eens achter de schermen kijken\, grijp dan nu je kans! \nHet geheim van eendenkooien\nEen bomeneiland in een grote groene zee… zo ziet de voormalige eendenkooi in het open landschap bij Piaam er van een afstandje uit. In Fryslân en andere laaggelegen delen van Nederland moeten vroeger honderden van dit soort mysterieuze bosjes – met in het midden een waterplas – hebben gestaan. Eendenkooien werden in ieder geval vanaf de 15e eeuw gebruikt om wilde eenden met hulp van lokeenden en een kooikerhondje te vangen. Zodra de eenden ‘de pijp uit’ gingen werden ze als delicatesse verorberd of verkocht. Het bezitten van een eendenkooi was ooit een statussymbool van rijke Friezen: met een eendenkooi was je altijd verzekerd van verse eendenbout. \nVanginstallatie wordt natuurgebied\nEinekoaien werden van natuurlijke materialen als wilgentakken gemaakt\, zodoende dat de meeste kooien vergaan zijn. Er zijn er echter enkele bewaard gebleven\, waaronder de Buismanskoai bij Piaam\, aan de oostkant van het IJsselmeer\, vernoemd naar de laatste particuliere eigenaar van de kooi. Buisman was bestuurslid van It Fryske Gea en liet enkele eendenkooien aan de natuurvereniging na. It Fryske Gea zorgt ervoor dat het systeem van schermen en vangpijpen als cultureel erfgoed behouden blijft. Er worden tegenwoordig geen vogels meer gevangen\, het is nu een beschermd rustgebied voor watervogels en bosvogels\, daarnaast is het een levend monument van een eeuwenoud gebruik. \nVanuit de vogelkijkhut\nTijdens deze excursie bezoek je ook de plek waar de wilde eenden vroeger vandaan werden gelokt: het IJsselmeer. Vanuit vogelkijkhut De Ral zie je – zonder ze te storen – krakeenden\, knobbelzwanen\, bergeenden\, slobeenden\, lepelaars en verschillende soorten ganzen rondzwemmen. In wat water verzamelen ze hun voedsel. Soms is het water zo ondiep\, dat de wetterfûgels vergezeld worden door weidevogels als de grutto\, scholekster en kievit. \nPraktische tips van It Fryske Gea \n\nDeze culturele excursie duurt ongeveer 2 uren.\nJe legt in totaal ongeveer 2 kilometer af.\nDe excursie is alleen geschikt voor mensen die goed ter been zijn omdat je door een weiland moet lopen om bij de eendenkooi te komen.\nIn het weiland kan het gras hoog en nat zijn\, dus trek laarzen of stevige schoenen.\nTrek voldoende laagjes kleding aan. Want je weet: er bestaat geen slecht weer\, alleen slechte kleding!\nDeelname is op eigen risico: je kunt natuur-verslaafd raken!\n\n 
URL:https://www.itfryskegea.nl/activiteiten/kijk-achter-de-schermen-bij-eendenkooi-buimanskoai-bij-piaam/
LOCATION:Kooireed\, Piaam\, Friesland\, Netherlands
CATEGORIES:Wandelen
ATTACH;FMTTYPE=image/jpeg:https://www.itfryskegea.nl/wp-content/uploads/2024/07/20160925_BSNF_01_DSC1637.jpg
ORGANIZER;CN="Lydia Barkema":MAILTO:lydiabarkema@home.nl
GEO:53.033087;5.409274
X-APPLE-STRUCTURED-LOCATION;VALUE=URI;X-ADDRESS=Kooireed Piaam Friesland Netherlands;X-APPLE-RADIUS=500;X-TITLE=Kooireed:geo:5.409274,53.033087
END:VEVENT
END:VCALENDAR