BEGIN:VCALENDAR
VERSION:2.0
PRODID:-//It Fryske Gea - ECPv6.14.2//NONSGML v1.0//EN
CALSCALE:GREGORIAN
METHOD:PUBLISH
X-WR-CALNAME:It Fryske Gea
X-ORIGINAL-URL:https://www.itfryskegea.nl
X-WR-CALDESC:Evenementen voor It Fryske Gea
REFRESH-INTERVAL;VALUE=DURATION:PT1H
X-Robots-Tag:noindex
X-PUBLISHED-TTL:PT1H
BEGIN:VTIMEZONE
TZID:Europe/Amsterdam
BEGIN:DAYLIGHT
TZOFFSETFROM:+0100
TZOFFSETTO:+0200
TZNAME:CEST
DTSTART:20250330T010000
END:DAYLIGHT
BEGIN:STANDARD
TZOFFSETFROM:+0200
TZOFFSETTO:+0100
TZNAME:CET
DTSTART:20251026T010000
END:STANDARD
END:VTIMEZONE
BEGIN:VEVENT
DTSTART;TZID=Europe/Amsterdam:20250523T190000
DTEND;TZID=Europe/Amsterdam:20250523T210000
DTSTAMP:20260422T105041
CREATED:20250410T115057Z
LAST-MODIFIED:20250522T143955Z
UID:10000029-1748026800-1748034000@www.itfryskegea.nl
SUMMARY:Avondwandeling door het moerassige Bûtefjild
DESCRIPTION:Ten noorden van de spoorlijn Leeuwarden-Groningen\, ligt natuurgebied It Bûtefjild als een groen-blauwe oase voor vele dier- en plantensoorten. Namen van paden en wateren als ‘Goddeloaze singel’ en ‘Looden hel’ doen vermoeden dat het hier ooit minder aangenaam moet zijn geweest. Verken op een mooie avond het Ottema-Wiersmareservaat\, een ex-turfwinlocatie dat nu als natuurlijk moeras dienstdoet. \nDe heren Ottema en Wiersma\nNadat de turf als brandstof was verkocht\, bleef er hier een land van plassen\, poelen\, rietvelden en natte hooilanden over. De heren Ottema en Wiersma kochten de grond\, omdat die anders ten prooi zou vallen aan de ontginningen die landbouwgrond moesten opleveren. Nu is het een gevarieerd moerasgebied waar de natuur weer z’n gang kan gaan! \nWegzakken in het moeras\nDe excursieleider van It Fryske Gea neemt je mee het moeras in\, buiten de gebaande paden welteverstaan. Gelukkig weet de gids de weg\, want er zijn verraderlijke plekken waar je kunt wegzakken. Trek daarom beslist je laarzen aan tijdens deze excursie. Je wandelt langs de petgaten die ooit werden gegraven door arme veenarbeiders\, ze zijn nu veranderd in rijk begroeide waterplassen. In het centrum van het reservaat\, tref je de schraallanden die in stand worden gehouden door It Fryske Gea\, die hier gefaseerd maait\, zodat er altijd begroeiing blijft staan voor de vogels en insecten die er leven. En voel je de grond onder je benen bewegen? Dan loop je over het veenmos\, een zompig stukje hoogveen dat meeveert als je eroverheen loopt. \nBijzondere soorten\nIn dit gevarieerde moerasgebied groeien ook bijzondere plantensoorten. Denk aan moeraskartelblad\, de ronde zonnedauw en dopheide. Daarnaast leven rond het water vele insecten zoals de libellen. ’s Avonds als het wat afkoelt\, komen ze tot rust en kun je ze soms op je hand houden om ze eens goed te bekijken. Moeras- en bosvogels leven ook in het Ottema-Wiersmareservaat\, maar die zul je ‘s avonds in de zomer amper horen. \nPraktische tips van It Fryske Gea\n\nDeze natuurwandeling duurt ongeveer 2 uren.\nJe legt een korte afstand door het moeras af.\nLaarzen aan is verplicht.\nDraag lange kleding om je te beschermen tegen steekmuggen.\nDe excursie is niet geschikt voor mensen die slecht ter been zijn.\nDeelname is op eigen risico: je kunt natuur-verslaafd raken!
URL:https://www.itfryskegea.nl/activiteiten/avondwandeling-door-het-moerassige-butefjild/
LOCATION:Koekoekspaad\, Feanwâlden\, Bûtefjild
CATEGORIES:Wandelen
ATTACH;FMTTYPE=image/jpeg:https://www.itfryskegea.nl/wp-content/uploads/2025/04/wandelexcursie-algemeen.jpg
ORGANIZER;CN="Marian van der Geest":MAILTO:macvandergeest@gmail.com
GEO:53.233383;5.941164
X-APPLE-STRUCTURED-LOCATION;VALUE=URI;X-ADDRESS=Koekoekspaad Feanwâlden Bûtefjild;X-APPLE-RADIUS=500;X-TITLE=Koekoekspaad:geo:5.941164,53.233383
END:VEVENT
END:VCALENDAR