BEGIN:VCALENDAR
VERSION:2.0
PRODID:-//It Fryske Gea - ECPv6.14.2//NONSGML v1.0//EN
CALSCALE:GREGORIAN
METHOD:PUBLISH
X-WR-CALNAME:It Fryske Gea
X-ORIGINAL-URL:https://www.itfryskegea.nl
X-WR-CALDESC:Evenementen voor It Fryske Gea
REFRESH-INTERVAL;VALUE=DURATION:PT1H
X-Robots-Tag:noindex
X-PUBLISHED-TTL:PT1H
BEGIN:VTIMEZONE
TZID:Europe/Amsterdam
BEGIN:DAYLIGHT
TZOFFSETFROM:+0100
TZOFFSETTO:+0200
TZNAME:CEST
DTSTART:20250330T010000
END:DAYLIGHT
BEGIN:STANDARD
TZOFFSETFROM:+0200
TZOFFSETTO:+0100
TZNAME:CET
DTSTART:20251026T010000
END:STANDARD
END:VTIMEZONE
BEGIN:VEVENT
DTSTART;TZID=Europe/Amsterdam:20250622T140000
DTEND;TZID=Europe/Amsterdam:20250622T160000
DTSTAMP:20260423T155911
CREATED:20250410T120512Z
LAST-MODIFIED:20250620T143949Z
UID:10000031-1750600800-1750608000@www.itfryskegea.nl
SUMMARY:Wandelen over de ontluikende kwelder op het Noarderleech
DESCRIPTION:Heb je zin in een wandeling langs de Waddenzee? Naderhand met zware benen en rode konen genieten van een voldaan gevoel? Ga mee over de enorme kwelder van natuurgebied Noard-Fryslân Bûtendyks dat bekend staat om zijn vogelrijkdom en vergezichten. \nEuropa’s grootste kwelder\nNoard-Fryslân Bûtendyks; dit buitendijkse natuurgebied is onderdeel van één van de grootste vastelandkwelders van Europa\, gelegen aan de rand van UNESCO Werelderfgoed Waddenzee. Hier vind je nog echte rust en ruimte. De slenken\, greppels\, dijken\, kaden\, sluizen en dobben vertellen het verhaal van de mens die dit kustgebied vormde door land uit zee te winnen voor agrarisch gebruik. Dit kwelderlân wordt nu beheerd als natuurgebied door It Fryske Gea. \nBen jij wel in voor een mooie lentewandeling met onze enthousiaste natuurgids? Trek je wandelschoenen aan en ga mee. Vergeet je verrekijker niet! \nPraktische tips van It Fryske Gea\n\nDeze natuurwandeling duurt ongeveer 2 tot 2\,5 uren.\nJe legt in totaal ongeveer 5 kilometer over de kwelder af.\nOmdat de ondergrond niet altijd vlak is moet je goed ter been zijn.\nDe excursie is ook geschikt voor oudere kinderen.\nHet Noarderleech is nat en het weer aan de kust kan ruig zijn\, dus trek laarzen en voldoende laagjes kleding aan.\nDeelname is op eigen risico.
URL:https://www.itfryskegea.nl/activiteiten/wandelen-over-de-ontluikende-kwelder-op-het-noarderleech/
LOCATION:Noorderleeg 5a\, Hallum\, Noard-Fryslân Bûtendyks\, 9074 TG\, Netherlands
CATEGORIES:Wandelen
ATTACH;FMTTYPE=image/jpeg:https://www.itfryskegea.nl/wp-content/uploads/2025/04/nfb_voorjaar.jpg
ORGANIZER;CN="Klaas van der Wolf":MAILTO:kc.vanderwolf@planet.nl
GEO:53.3226806;5.7394557
X-APPLE-STRUCTURED-LOCATION;VALUE=URI;X-ADDRESS=Noorderleeg 5a Hallum Noard-Fryslân Bûtendyks 9074 TG Netherlands;X-APPLE-RADIUS=500;X-TITLE=Noorderleeg 5a:geo:5.7394557,53.3226806
END:VEVENT
END:VCALENDAR