BEGIN:VCALENDAR
VERSION:2.0
PRODID:-//It Fryske Gea - ECPv6.14.2//NONSGML v1.0//EN
CALSCALE:GREGORIAN
METHOD:PUBLISH
X-ORIGINAL-URL:https://www.itfryskegea.nl
X-WR-CALDESC:Evenementen voor It Fryske Gea
REFRESH-INTERVAL;VALUE=DURATION:PT1H
X-Robots-Tag:noindex
X-PUBLISHED-TTL:PT1H
BEGIN:VTIMEZONE
TZID:Europe/Amsterdam
BEGIN:DAYLIGHT
TZOFFSETFROM:+0100
TZOFFSETTO:+0200
TZNAME:CEST
DTSTART:20250330T010000
END:DAYLIGHT
BEGIN:STANDARD
TZOFFSETFROM:+0200
TZOFFSETTO:+0100
TZNAME:CET
DTSTART:20251026T010000
END:STANDARD
END:VTIMEZONE
BEGIN:VEVENT
DTSTART;TZID=Europe/Amsterdam:20250906T183000
DTEND;TZID=Europe/Amsterdam:20250906T203000
DTSTAMP:20260422T141222
CREATED:20250717T141512Z
LAST-MODIFIED:20250905T125220Z
UID:10000211-1757183400-1757190600@www.itfryskegea.nl
SUMMARY:Avondwandeling door de Lendevallei in zuidelijk Friesland
DESCRIPTION:In de Stellingwerven\, op de grens van Friesland en Overijssel stroomt sinds mensenheugenis riviertje De Lende. In de vallei aan weerszijden van deze beek is het goed toeven voor mens en dier: in dit 860 ha grote natuurgebied vind je een afwisselend landschap met kronkelende rivierarmen\, dichte moerasbosjes en bloemrijke polders. \nWaardevolle planten en insecten\nJe zou niet denken dat de Lendevallei – direct onder de rook van Wolvega en bovendien bezijden de A32 gelegen – waardevolle natuur herbergt. Toch is het waar! De Lendevallei is een moerasgebied waar waardevolle planten als de gagel\, Gelderse roos\, grote boterbloem\, Noordse zegge\, waterviolier en kransvederkruid groeien. Zulke kleurrijke flora trekt op z’n beurt weer bijzondere insecten aan. Op een mooie voorjaarsdag kom je er libellen met klinkende namen als de Noordse winterjuffer\, de gevlekte glanslibel en de groene glazenmaker tegen. Ook moerasvogels als roerdomp\, purperreiger\, zwarte stern en blauwborst en watervogels als fuut en krakeend kun je er aantreffen. \nHerstel van oude meanders\nVereniging It Fryske Gea heeft de afgelopen jaren gewerkt aan natuurherstel in de Lendevallei. Tijdens de turfwinning in de voorgaande eeuw\, hadden rijke veenbazen de vallei laten afgraven en rivier De Lende uit efficiencyoverwegingen recht getrokken. Hierdoor was veel natuur verloren gegaan en droogde het gebied helemaal uit. Nu zijn er oude meanders van de rivier uitgegraven en is het gebied beter verbonden met omliggende moerasgebieden zoals de Weerribben en Rottige Meente: ‘de natte as’ is weer in werking. \nPraktische tips van It Fryske Gea\n\nDeze natuurwandeling duurt ongeveer 2 uren.\nJe legt in totaal ongeveer 5-6 kilometer door het beekdal af.\nDe excursie is geschikt voor volwassenen en kinderen vanaf 6 jaar met een goede conditie.\nTrek rubberen laarzen aan in De Lendevallei\, je loopt veelal over nat en onverhard terrein.\nNeem je verrekijker mee.\nTrek voldoende laagjes kleding aan. Want je weet: er bestaat geen slecht weer\, alleen slechte kleding!\nDeelname op eigen risico: je kunt verslaafd raken aan de natuur!
URL:https://www.itfryskegea.nl/activiteiten/avondwandeling-door-de-lendevallei-in-zuidelijk-friesland/
LOCATION:Hemweg 1\, Wolvega\, Friesland\, 8395 TC\, Netherlands
ATTACH;FMTTYPE=image/jpeg:https://www.itfryskegea.nl/wp-content/uploads/2025/04/ochtend-varen-natuur.jpg
GEO:52.869931;6.057684
X-APPLE-STRUCTURED-LOCATION;VALUE=URI;X-ADDRESS=Hemweg 1 Wolvega Friesland 8395 TC Netherlands;X-APPLE-RADIUS=500;X-TITLE=Hemweg 1:geo:6.057684,52.869931
END:VEVENT
END:VCALENDAR