BEGIN:VCALENDAR
VERSION:2.0
PRODID:-//It Fryske Gea - ECPv6.14.2//NONSGML v1.0//EN
CALSCALE:GREGORIAN
METHOD:PUBLISH
X-ORIGINAL-URL:https://www.itfryskegea.nl
X-WR-CALDESC:Evenementen voor It Fryske Gea
REFRESH-INTERVAL;VALUE=DURATION:PT1H
X-Robots-Tag:noindex
X-PUBLISHED-TTL:PT1H
BEGIN:VTIMEZONE
TZID:Europe/Amsterdam
BEGIN:DAYLIGHT
TZOFFSETFROM:+0100
TZOFFSETTO:+0200
TZNAME:CEST
DTSTART:20250330T010000
END:DAYLIGHT
BEGIN:STANDARD
TZOFFSETFROM:+0200
TZOFFSETTO:+0100
TZNAME:CET
DTSTART:20251026T010000
END:STANDARD
END:VTIMEZONE
BEGIN:VEVENT
DTSTART;TZID=Europe/Amsterdam:20250815T190000
DTEND;TZID=Europe/Amsterdam:20250815T210000
DTSTAMP:20260422T124532
CREATED:20250527T131751Z
LAST-MODIFIED:20250814T144916Z
UID:10000128-1755284400-1755291600@www.itfryskegea.nl
SUMMARY:Avondwandeling over It Eilân bij Goëngahuizen
DESCRIPTION:Fryslân is een echt wetterlân: grote delen van de provincie waren vroeger alleen over het water bereikbaar. Zo ook It Eilân bij Goëngahuizen in de buurt van Grou. Ondanks de komst van een veerpont is het nog steeds een min of meer geïsoleerde plek: de ideale locatie voor een vogelrijk natuurgebied van It Fryske Gea. Ga op pad met een gids voor een cultuurhistorische wandeling waarbij je in de tussentijd van de natuur geniet. \nEilân-East en Eilân-West\nSinds de jaren negentig heeft It Eilân bij Goëngahuizen – dat voorheen als ‘boerelân’ gebruikt werd – een natuurfunctie gekregen. It Eilân bestaat eigenlijk uit twee eilanden\, die samen 230 hectare aan moeras en bloemrijke graslanden vormen. Ze zijn een onderdeel van Nationaal Park De Alde Feanen\, dat enorm veel vogels trekt. \nVerhalen van vroeger\nOp It Eilân werd de afgelopen eeuwen volop geboerd en dat moet hier ‘oan de ein fan ’e wrâld’ niet gemakkelijk zijn geweest. Vee\, hooi\, melk en schoolgaande kinderen werden per boot van en naar het eiland vervoerd. Begin jaren zeventig kwam er een veerpont en zo werd It Eilân een stuk toegankelijker. Boeren melken hier geen koeien meer\, ze laten hier ’s zomers wel hun pinken grazen en oogsten hier kuil en hooi. Een gids van It Fryske Gea vertelt over het leven op het eiland in eerdere tijden en leest voor uit het werk van de Friese schrijver Rink van der Velde. \nZomergenot\nOndertussen maak je een mooie wandeling over struinpaden langs het water van de Goaiïngahúster Sleat en over dijkjes die een mooi uitzicht over de Sitebuorster Ie bieden. Tijdens deze wandeling geniet je\, net als vroeger\, van velden vol bloeiende boterbloemen en veldzuring. Vanwege de vogels zorgt natuurorganisatie It Fryske Gea dat de waterstanden op It Eilân hoog blijven. Op het eiland kun je moerasvogels als de bruine kiekendief en de roerdomp aantreffen. Ook broedt hier een kolonie zwarte stern. Dus houd ook je ogen geopend tijdens het luisteren naar de mooie verhalen over vroeger! \nPraktische tips van It Fryske Gea\n• Deze natuurwandeling duurt ongeveer 2\,5 uren.\n• Je legt in totaal ongeveer 5 kilometer over het eiland af.\n• De excursie is niet geschikt voor mensen die slecht ter been zijn.\n• Op het eiland wandel je over onverharde paden\, dus trek liefst wandelschoenen aan.\n• Neem wat geld mee voor een consumptie naderhand bij camping It Lege Midden.\n• Deelname is op eigen risico.
URL:https://www.itfryskegea.nl/activiteiten/avondwandeling-over-it-eilan-bij-goengahuizen-2/
LOCATION:Kobbewei 5\, Goengahuizen\, Nationaal Park De Alde Feanen\, 8497 NJ
CATEGORIES:Wandelen
ATTACH;FMTTYPE=image/jpeg:https://www.itfryskegea.nl/wp-content/uploads/2025/04/natuur_closeup.jpg
ORGANIZER;CN="Anne Peenstra":MAILTO:apeenstra@planet.nl
GEO:53.1297152;5.9379801
X-APPLE-STRUCTURED-LOCATION;VALUE=URI;X-ADDRESS=Kobbewei 5 Goengahuizen Nationaal Park De Alde Feanen 8497 NJ;X-APPLE-RADIUS=500;X-TITLE=Kobbewei 5:geo:5.9379801,53.1297152
END:VEVENT
BEGIN:VEVENT
DTSTART;TZID=Europe/Amsterdam:20250801T140000
DTEND;TZID=Europe/Amsterdam:20250801T160000
DTSTAMP:20260422T124532
CREATED:20250527T125116Z
LAST-MODIFIED:20250814T121126Z
UID:10000125-1754056800-1754064000@www.itfryskegea.nl
SUMMARY:Wandeling over It Eilân bij Goëngahuizen
DESCRIPTION:Fryslân is een echt wetterlân: grote delen van de provincie waren vroeger alleen over het water bereikbaar. Zo ook It Eilân bij Goëngahuizen in de buurt van Grou. Ondanks de komst van een veerpont is het nog steeds een min of meer geïsoleerde plek: de ideale locatie voor een vogelrijk natuurgebied van It Fryske Gea. Ga op pad met een gids voor een cultuurhistorische wandeling waarbij je in de tussentijd van de natuur geniet. \nEilân-East en Eilân-West\nSinds de jaren negentig heeft It Eilân bij Goëngahuizen – dat voorheen als ‘boerelân’ gebruikt werd – een natuurfunctie gekregen. It Eilân bestaat eigenlijk uit twee eilanden\, die samen 230 hectare aan moeras en bloemrijke graslanden vormen. Ze zijn een onderdeel van Nationaal Park De Alde Feanen\, dat enorm veel vogels trekt. \nVerhalen van vroeger\nOp It Eilân werd de afgelopen eeuwen volop geboerd en dat moet hier ‘oan de ein fan ’e wrâld’ niet gemakkelijk zijn geweest. Vee\, hooi\, melk en schoolgaande kinderen werden per boot van en naar het eiland vervoerd. Begin jaren zeventig kwam er een veerpont en zo werd It Eilân een stuk toegankelijker. Boeren melken hier geen koeien meer\, ze laten hier ’s zomers wel hun pinken grazen en oogsten hier kuil en hooi. Een gids van It Fryske Gea vertelt over het leven op het eiland in eerdere tijden en leest voor uit het werk van de Friese schrijver Rink van der Velde. \nZomergenot\nOndertussen maak je een mooie wandeling over struinpaden langs het water van de Goaiïngahúster Sleat en over dijkjes die een mooi uitzicht over de Sitebuorster Ie bieden. Tijdens deze wandeling geniet je\, net als vroeger\, van velden vol bloeiende boterbloemen en veldzuring. Vanwege de vogels zorgt natuurorganisatie It Fryske Gea dat de waterstanden op It Eilân hoog blijven. Op het eiland kun je moerasvogels als de bruine kiekendief en de roerdomp aantreffen. Ook broedt hier een kolonie zwarte stern. Dus houd ook je ogen geopend tijdens het luisteren naar de mooie verhalen over vroeger! \nPraktische tips van It Fryske Gea\n• Deze natuurwandeling duurt ongeveer 2\,5 uren.\n• Je legt in totaal ongeveer 5 kilometer over het eiland af.\n• De excursie is niet geschikt voor mensen die slecht ter been zijn.\n• Op het eiland wandel je over onverharde paden\, dus trek liefst wandelschoenen aan.\n• Neem wat geld mee voor een consumptie naderhand bij camping It Lege Midden.\n• Deelname is op eigen risico.
URL:https://www.itfryskegea.nl/activiteiten/wandeling-over-it-eilan-bij-goengahuizen/
LOCATION:Kobbewei 5\, Goengahuizen\, Nationaal Park De Alde Feanen\, 8497 NJ
CATEGORIES:Wandelen
ATTACH;FMTTYPE=image/jpeg:https://www.itfryskegea.nl/wp-content/uploads/2025/04/natuur_closeup.jpg
ORGANIZER;CN="Anne Peenstra":MAILTO:apeenstra@planet.nl
GEO:53.1297152;5.9379801
X-APPLE-STRUCTURED-LOCATION;VALUE=URI;X-ADDRESS=Kobbewei 5 Goengahuizen Nationaal Park De Alde Feanen 8497 NJ;X-APPLE-RADIUS=500;X-TITLE=Kobbewei 5:geo:5.9379801,53.1297152
END:VEVENT
BEGIN:VEVENT
DTSTART;TZID=Europe/Amsterdam:20250524T190000
DTEND;TZID=Europe/Amsterdam:20250524T210000
DTSTAMP:20260422T124532
CREATED:20250404T092205Z
LAST-MODIFIED:20250704T091355Z
UID:10000019-1748113200-1748120400@www.itfryskegea.nl
SUMMARY:Avondwandeling over It Eilân bij Goëngahuizen
DESCRIPTION:Fryslân is een echt wetterlân: grote delen van de provincie waren alleen over het water bereikbaar. Zo ook It Eilân bij Goëngahuizen in de buurt van Grou. Ondanks de komst van een veerpont is het nog steeds een min of meer geïsoleerde plek: de ideale locatie voor een vogelrijk natuurgebied van It Fryske Gea. Ga op pad met een gids voor een cultuurhistorische wandeling waarbij je in de tussentijd van de natuur geniet. \nEilân-East en Eilân-West\nSinds de jaren negentig heeft It Eilân bij Goëngahuizen – dat voorheen als boerelân gebruikt werd – weer een natuurfunctie gekregen. It Eilân bestaat eigenlijk uit twee eilanden\, die samen 230 hectare aan moeras en bloemrijke graslanden vormen. Ze zijn onderdeel van de Alde Feanen\, een Nationaal Park dat een enorm aantal vogels trekt. \nVerhalen van vroeger\nOp It Eilân werd de afgelopen eeuwen volop geboerd en dat moet hier oan de ein fan’e wrâld niet gemakkelijk zijn geweest. Vee\, hooi\, melk en schoolgaande kinderen werden per praam van en naar het eiland vervoerd. In 1959 kwam er een veerpont en zo werd It Eilân een stuk toegankelijker. De boeren van het eiland zijn inmiddels gestopt met koeien melken. Koeien kun je er overigens nog wel tegenkomen\, zij beheren de landerijen in de zomer. Een gids van It Fryske Gea vertelt over zijn belevenissen op het eiland en leest voor uit het werk van de Fryske skrieuwer Rink van der Velde. \nZomeravondgenot\nOnderwijl maak je een mooie wandeling over struinpaden langs het water van de Goëngahúster Sleat en over dijkjes die een mooi uitzicht over de Sitebuorster Ie bieden. Deze simmerjûn geniet je\, net als vroeger\, van velden vol bloeiende boterbloemen en veldzuring. Speciaal voor de vogels zorgt natuurorganisatie It Fryske Gea dat de waterstanden op It Eilân hoog blijven. Op het eiland kun je moerasvogels als de bruine kiekendief en de roerdomp aantreffen. Ook de minder voorkomende zwarte stern broedt hier. Dus houd ook je ogen geopend tijdens het luisteren naar de mooie verhalen over vroeger! \nPraktische tips van It Fryske Gea\n\nDeze natuurwandeling duurt ongeveer 2\,5 uren.\nJe legt in totaal ongeveer 5 kilometer over het eiland af.\nDe excursie is niet geschikt voor mensen die slecht ter been zijn.\nOp het eiland wandel je over onverharde paden dus trek liefst wandelschoenen aan.\nNeem wat geld mee voor een consumptie naderhand bij camping It Lege Midden.\nDeelname is op eigen risico.
URL:https://www.itfryskegea.nl/activiteiten/avondwandeling-over-it-eilan-bij-goengahuizen/
LOCATION:Kobbewei 5\, Goengahuizen\, Nationaal Park De Alde Feanen\, 8497 NJ
CATEGORIES:Wandelen
ATTACH;FMTTYPE=image/jpeg:https://www.itfryskegea.nl/wp-content/uploads/2025/04/natuur_closeup.jpg
ORGANIZER;CN="Anne Peenstra":MAILTO:apeenstra@planet.nl
GEO:53.1297152;5.9379801
X-APPLE-STRUCTURED-LOCATION;VALUE=URI;X-ADDRESS=Kobbewei 5 Goengahuizen Nationaal Park De Alde Feanen 8497 NJ;X-APPLE-RADIUS=500;X-TITLE=Kobbewei 5:geo:5.9379801,53.1297152
END:VEVENT
END:VCALENDAR