BEGIN:VCALENDAR
VERSION:2.0
PRODID:-//It Fryske Gea - ECPv6.14.2//NONSGML v1.0//EN
CALSCALE:GREGORIAN
METHOD:PUBLISH
X-ORIGINAL-URL:https://www.itfryskegea.nl
X-WR-CALDESC:Evenementen voor It Fryske Gea
REFRESH-INTERVAL;VALUE=DURATION:PT1H
X-Robots-Tag:noindex
X-PUBLISHED-TTL:PT1H
BEGIN:VTIMEZONE
TZID:Europe/Amsterdam
BEGIN:DAYLIGHT
TZOFFSETFROM:+0100
TZOFFSETTO:+0200
TZNAME:CEST
DTSTART:20260329T010000
END:DAYLIGHT
BEGIN:STANDARD
TZOFFSETFROM:+0200
TZOFFSETTO:+0100
TZNAME:CET
DTSTART:20261025T010000
END:STANDARD
END:VTIMEZONE
BEGIN:VEVENT
DTSTART;TZID=Europe/Amsterdam:20260425T140000
DTEND;TZID=Europe/Amsterdam:20260425T170000
DTSTAMP:20260419T114059
CREATED:20260206T132801Z
LAST-MODIFIED:20260402T124321Z
UID:10000381-1777125600-1777136400@www.itfryskegea.nl
SUMMARY:Wandelen langs trekvogels en cultuurhistorie bij Westhoek-Koehoal
DESCRIPTION:Ruik de zilte zeelucht onder het krijsen van de meeuwen\, maar geniet bovenal van het uitzicht over de kwelders en het wad. Deze wandelexcursie door Noard-Fryslân Bûtendyks\, één van Europa’s grootste kwelders\, neemt je mee in de waddennatuur met zijn vogelrijkdom en vergezichten. Ga op pad met onze enthousiaste natuurgids langs trekvogels en cultuurhistorie. We wandelen buiten de dijken\, in deelgebied Westhoek\, dichtbij Zwarte Haan. \n‘Gouden rand’ van de Waddenzee\nDe randen van de Waddenzee zijn voor planten en dieren van levensbelang. Door de rust en de enorme voedselrijkdom maken jaarlijks enorme aantallen vogels gebruik van deze ‘gouden rand’ van de Waddenzee. In het gebied komen 240 verschillende soorten vogels voor\, maar de bonte strandloper\, brandgans en wulp zie je het meest. Kortom een paradijs voor vogelliefhebbers! Maar ook de bijzondere kwelderplanten zijn de moeite waard. In het voorjaar zie je het vers groene zeekraal op de slikvelden en in het najaar kleuren de bloeiende kwelderplanten de kwelder rood. \nWesthoek- Koehoal\nLoop vanaf de dijk richting Waddenzee en je ziet de begroeiing veranderen. Geleidelijk krijgt het zoute zeewater meer invloed. Gras wordt kweldergras\, en verdwijnt dichter bij zee volledig om plaats te maken voor planten als schorrekruid en zeekraal. Soorten die het zoute water verdragen. Uiteindelijk verdwijnt de begroeiing geheel en voel je dat lopen steeds moeizamer gaat; we bereiken de slikvelden van het wad. Neem een moment om stil te staan want nergens zijn de luchten mooier dan hier! \nPraktische tips van It Fryske Gea\n\nDeze natuurwandeling duurt ongeveer 3 uren.\nDe excursie is alleen geschikt voor mensen die goed ter been zijn.\nTrek waterdichte rubberen laarzen aan.\nHet weer aan de kust kan ruig zijn\, dus trek voldoende laagjes kleding aan. Want je weet: er bestaat geen slecht weer\, alleen slechte kleding!\nDeelname is op eigen risico: je kunt natuur-verslaafd raken!\n\n  \nAls je je inschrijft voor een activiteit\, dan ga je akkoord met onze activiteitenvoorwaarden.
URL:https://www.itfryskegea.nl/activiteiten/wandelen-langs-trekvogels-en-cultuurhistorie-bij-westhoek-koehoal-3/
LOCATION:Nabij Oudebildtdijk 1226\, Westhoek\, Friesland\, 9075 NR\, Netherlands
CATEGORIES:Wandelen
ATTACH;FMTTYPE=image/jpeg:https://www.itfryskegea.nl/wp-content/uploads/2025/04/westhoek_zomer2.jpg
ORGANIZER;CN="Adriaan de Lange":MAILTO:adsj.delange@hetnet.nl
END:VEVENT
END:VCALENDAR