BEGIN:VCALENDAR
VERSION:2.0
PRODID:-//It Fryske Gea - ECPv6.14.2//NONSGML v1.0//EN
CALSCALE:GREGORIAN
METHOD:PUBLISH
X-WR-CALNAME:It Fryske Gea
X-ORIGINAL-URL:https://www.itfryskegea.nl
X-WR-CALDESC:Evenementen voor It Fryske Gea
REFRESH-INTERVAL;VALUE=DURATION:PT1H
X-Robots-Tag:noindex
X-PUBLISHED-TTL:PT1H
BEGIN:VTIMEZONE
TZID:Europe/Amsterdam
BEGIN:DAYLIGHT
TZOFFSETFROM:+0100
TZOFFSETTO:+0200
TZNAME:CEST
DTSTART:20260329T010000
END:DAYLIGHT
BEGIN:STANDARD
TZOFFSETFROM:+0200
TZOFFSETTO:+0100
TZNAME:CET
DTSTART:20261025T010000
END:STANDARD
END:VTIMEZONE
BEGIN:VEVENT
DTSTART;TZID=Europe/Amsterdam:20260501T100000
DTEND;TZID=Europe/Amsterdam:20260501T120000
DTSTAMP:20260419T193303
CREATED:20260206T105144Z
LAST-MODIFIED:20260402T132807Z
UID:10000354-1777629600-1777636800@www.itfryskegea.nl
SUMMARY:Voorjaarsontdekkingstocht door het Rysterbosk (6+)
DESCRIPTION:Het is voorjaar! Tijd voor een struintocht door het Rysterbosk. Onze natuurgids gaat met de kinderen op stap in het Rysterbosk met een rugzak vol spulletjes zoals zoekkaarten\, loeppotjes\, spiegeltjes en nog veel meer. Onderweg ontdekken de kinderen door actieve en uitdagende opdrachten van alles over het bos en zijn bewoners. Wie weet vinden we de sporen van een ree of das! \nSpelenderwijs krijgen de kinderen informatie over o.a. planten en bomen\nDe grote eiken in het bos zijn zeker al 300 jaar oud. Ze kunnen ons heel veel vertellen. Zouden ze dat ook doen? Zeg niet te gauw ‘nee’. Je gaat het beleven en ondervinden.\nNaast dat deze jeugdactiviteit heel erg leuk en leerzaam is\, beleef je de natuur met al je zintuigen in de frisse buitenlucht. Genoeg redenen om mee te gaan. \n  \nAls je je inschrijft voor een activiteit\, dan ga je akkoord met onze activiteitenvoorwaarden.
URL:https://www.itfryskegea.nl/activiteiten/voorjaarsontdekkingstocht-door-het-rysterbosk-6/
LOCATION:Murnserleane 1\, Rijs\, Friesland\, 8572 WN
CATEGORIES:Jeugdactiviteit
ATTACH;FMTTYPE=image/jpeg:https://www.itfryskegea.nl/wp-content/uploads/2024/07/herfstrysterbosk-1.jpg
ORGANIZER;CN="Wytske Heida":MAILTO:wytskeheida@ziggo.nl
GEO:52.862193;5.49674
X-APPLE-STRUCTURED-LOCATION;VALUE=URI;X-ADDRESS=Murnserleane 1 Rijs Friesland 8572 WN;X-APPLE-RADIUS=500;X-TITLE=Murnserleane 1:geo:5.49674,52.862193
END:VEVENT
BEGIN:VEVENT
DTSTART;TZID=Europe/Amsterdam:20260530T093000
DTEND;TZID=Europe/Amsterdam:20260530T120000
DTSTAMP:20260419T193303
CREATED:20260415T125430Z
LAST-MODIFIED:20260415T130239Z
UID:10000450-1780133400-1780142400@www.itfryskegea.nl
SUMMARY:Voorjaarswandeling door het levendige Rysterbosk
DESCRIPTION:In de 17e eeuw werd It Rysterbosk aangelegd door de Amsterdamse regentenfamilie De Wildt. Sporen uit die tijd – maar ook van ver daarvoor – zijn er vandaag de dag nog genoeg te vinden. Een bos vol geschiedenis\, waar ook prachtige natuur te vinden is! Een interessante plek om eens met een gids van It Fryske Gea op pad te gaan. \nVanuit Huize Rijs\nDe excursie start bij de ingang van het Rysterbosk\, op de plek waar ooit Huize Rijs – het voorname woonhuis van familie De Wildt – stond. Je wandelt over de brede en statige Murnzerleane met beide kanten een dubbele rij beukenkomen. Later volg je de excursieleider over de smallere Griene Leane en de Enkhuizerlaan met z’n nieuwe aanplant. Aan weerszijden van de lanen zie je rabatten liggen: strookjes land met greppels rondom waarop eikenbomen werden geplant zodat ze droge voeten hielden. De eikenbomen werden namelijk als hakhout verkocht. \nIndrukwekkende elementen\nHet Rysterbosk werd in de 17e eeuw volgens de toen populaire rechtlijnige en symmetrische barokke tuinstijl aangelegd. In 1834 kwam de familie Van Swinderen op het landgoed te wonen en werden er kronkelende paden volgens de Engelse landschapsstijl aan het bos toegevoegd. Opvallend zijn verder de majestueuze beukenbomen die her en der verspreid staan. Ze moeten ongeveer 300 jaar oud zijn. Enkele beukenbomen hebben een omtrek van zowat zeven meter! En wat te denken van het stokoude graf uit de Trechterbekercultuur dat midden in het Rysterbosk te vinden is? \nDieren in het bos\nHet Rysterbosk wordt tussen zonsopkomst en zonsondergang door veel natuurliefhebbers bezocht. Ondanks al die rondwandelende mensen\, leven er ook veel dieren in dit bos. De excursieleider van It Fryske Gea zal je wijzen op de vogels die je – afhankelijk van het seizoen – ziet of hoort. Denk aan de houtduif\, de specht of de buizerd. Soms zie je reeën in de naastgelegen Séfonsterpolder lopen. Maar meestal komen zij – net de andere bosbewoners als de das en de vleermuis – pas naar buiten als de duisternis invalt. \nPraktische tips van It Fryske Gea\n\nDeze wandeling duurt ongeveer 2\,5 uren\nDe excursie is ook geschikt voor gezinnen met kinderen\nIn het voorjaar zijn er vaak muggen in het bos\, trek kleding met lange mouwen en lange pijpen aan of gebruik insectenspray\nDeelname is op eigen risico: je kunt natuur-verslaafd raken!\n\nAls je je inschrijft voor een activiteit\, dan ga je akkoord met onze activiteitenvoorwaarden.
URL:https://www.itfryskegea.nl/activiteiten/voorjaarswandeling-door-het-levendige-rysterbosk/
LOCATION:Murnserleane 1\, Rijs\, Friesland\, 8572 WN
CATEGORIES:Wandelen
ATTACH;FMTTYPE=image/jpeg:https://www.itfryskegea.nl/wp-content/uploads/2025/04/rysterbosk_voorjaar.jpg
ORGANIZER;CN="Wytske Heida":MAILTO:wytskeheida@ziggo.nl
GEO:52.862193;5.49674
X-APPLE-STRUCTURED-LOCATION;VALUE=URI;X-ADDRESS=Murnserleane 1 Rijs Friesland 8572 WN;X-APPLE-RADIUS=500;X-TITLE=Murnserleane 1:geo:5.49674,52.862193
END:VEVENT
BEGIN:VEVENT
DTSTART;TZID=Europe/Amsterdam:20260620T093000
DTEND;TZID=Europe/Amsterdam:20260620T120000
DTSTAMP:20260419T193303
CREATED:20260415T145252Z
LAST-MODIFIED:20260415T145447Z
UID:10000460-1781947800-1781956800@www.itfryskegea.nl
SUMMARY:Ontdek het Rysterbosk: natuur vol leven en historie
DESCRIPTION:In de 17e eeuw werd het Rysterbosk aangelegd door de Amsterdamse regentenfamilie De Wildt. Sporen uit die tijd – maar ook van ver daarvoor – zijn er vandaag de dag nog genoeg te vinden. Een bos vol geschiedenis\, waar ook prachtige natuur te vinden is! Een interessante plek om eens met een gids van It Fryske Gea op pad te gaan. \nVanuit Huize Rijs\nDe excursie start bij de ingang van het Rysterbosk\, op de plek waar ooit Huize Rijs – het voorname woonhuis van familie De Wildt – stond. Je wandelt over de brede en statige Murnzerleane met beide kanten een dubbele rij beukenkomen. Later volg je de excursieleider over de smallere Griene Leane en de Enkhuizerlaan met z’n nieuwe aanplant. Aan weerszijden van de lanen zie je rabatten liggen: strookjes land met greppels rondom waarop eikenbomen werden geplant zodat ze droge voeten hielden. De eikenbomen werden namelijk als hakhout verkocht. \nIndrukwekkende elementen\nHet Rysterbosk werd in de 17e eeuw volgens de toen populaire rechtlijnige en symmetrische barokke tuinstijl aangelegd. In 1834 kwam de familie Van Swinderen op het landgoed te wonen en werden er kronkelende paden volgens de Engelse landschapsstijl aan het bos toegevoegd. Opvallend zijn verder de majestueuze beukenbomen die her en der verspreid staan. Ze moeten ongeveer 300 jaar oud zijn. Enkele beukenbomen hebben een omtrek van zowat zeven meter! En wat te denken van het stokoude graf uit de Trechterbekercultuur dat midden in het Rysterbosk te vinden is? \nDieren in het bos\nHet Rysterbosk wordt tussen zonsopkomst en zonsondergang door veel natuurliefhebbers bezocht. Ondanks al die rondwandelende mensen\, leven er ook veel dieren in dit bos. De excursieleider van It Fryske Gea zal je wijzen op de vogels die je – afhankelijk van het seizoen – ziet of hoort. Denk aan de houtduif\, de specht of de buizerd. Soms zie je reeën in de naastgelegen Séfonsterpolder lopen. Maar meestal komen zij – net de andere bosbewoners als de das en de vleermuis – pas naar buiten als de duisternis invalt. \nPraktische tips van It Fryske Gea\n\nDeze wandeling duurt ongeveer 2\,5 uren\nDe excursie is ook geschikt voor gezinnen met kinderen\nIn het voorjaar zijn er vaak muggen in het bos\, trek kleding met lange mouwen en lange pijpen aan of gebruik insectenspray\nDeelname is op eigen risico: je kunt natuur-verslaafd raken!\n\nAls je je inschrijft voor een activiteit\, dan ga je akkoord met onze activiteitenvoorwaarden.
URL:https://www.itfryskegea.nl/activiteiten/ontdek-het-rysterbosk-natuur-vol-leven-en-historie/
LOCATION:Murnserleane 1\, Rijs\, Friesland\, 8572 WN
CATEGORIES:Wandelen
ATTACH;FMTTYPE=image/jpeg:https://www.itfryskegea.nl/wp-content/uploads/2025/04/rysterbosk_voorjaar.jpg
ORGANIZER;CN="Wytske Heida":MAILTO:wytskeheida@ziggo.nl
GEO:52.862193;5.49674
X-APPLE-STRUCTURED-LOCATION;VALUE=URI;X-ADDRESS=Murnserleane 1 Rijs Friesland 8572 WN;X-APPLE-RADIUS=500;X-TITLE=Murnserleane 1:geo:5.49674,52.862193
END:VEVENT
END:VCALENDAR