BEGIN:VCALENDAR
VERSION:2.0
PRODID:-//It Fryske Gea - ECPv6.14.2//NONSGML v1.0//EN
CALSCALE:GREGORIAN
METHOD:PUBLISH
X-ORIGINAL-URL:https://www.itfryskegea.nl
X-WR-CALDESC:Evenementen voor It Fryske Gea
REFRESH-INTERVAL;VALUE=DURATION:PT1H
X-Robots-Tag:noindex
X-PUBLISHED-TTL:PT1H
BEGIN:VTIMEZONE
TZID:Europe/Amsterdam
BEGIN:DAYLIGHT
TZOFFSETFROM:+0100
TZOFFSETTO:+0200
TZNAME:CEST
DTSTART:20250330T010000
END:DAYLIGHT
BEGIN:STANDARD
TZOFFSETFROM:+0200
TZOFFSETTO:+0100
TZNAME:CET
DTSTART:20251026T010000
END:STANDARD
END:VTIMEZONE
BEGIN:VEVENT
DTSTART;TZID=Europe/Amsterdam:20250807T093000
DTEND;TZID=Europe/Amsterdam:20250807T120000
DTSTAMP:20260419T223649
CREATED:20250521T140205Z
LAST-MODIFIED:20250806T140442Z
UID:10000107-1754559000-1754568000@www.itfryskegea.nl
SUMMARY:Ontdek het eeuwenoude Rysterbosk volop natuur en cultuurhistorie
DESCRIPTION:In de 17e eeuw werd het Rysterbosk aangelegd door de Amsterdamse regentenfamilie De Wildt. Sporen uit die tijd – maar ook van ver daarvoor – zijn er vandaag de dag nog genoeg te vinden. Een bos vol geschiedenis\, waar ook prachtige natuur te vinden is! Een interessante plek om eens met een gids van It Fryske Gea op pad te gaan. \nIndrukwekkende elementen\nIt Rysterbosk werd in de 17e eeuw volgens de toen populaire rechtlijnige en symmetrische barokke tuinstijl aangelegd. In 1834 kwam de familie Van Swinderen op het landgoed te wonen en werden er kronkelende paden volgens de Engelse landschapsstijl aan het bos toegevoegd. Opvallend zijn verder de majestueuze beukenbomen die her en der verspreid staan. Ze moeten ongeveer 300 jaar oud zijn. Enkele bûkebeammen hebben een omtrek van zowat zeven meter! En wat te denken van het stokoude graf uit de Trechterbekercultuur dat midden in het Rysterbosk te vinden is? \nDieren in het bos\nIt Rysterbosk wordt tussen zonsopkomst en zonsondergang door veel natuurliefhebbers bezocht. Ondanks al die rondwandelende mensen\, leven er ook veel dieren in dit bos. De excursieleider van natuurorganisatie It Fryske Gea zal je wijzen op de vogels die je – afhankelijk van het seizoen – ziet of hoort. Denk aan de houtduif\, de specht of de buizerd. Soms zie je reeën in de naastgelegen Séfinsterpolder lopen. Maar meestal komen zij – net de andere bosbewoners als de das en de vleermuis – pas foar it ljocht als de duisternis invalt. \nPraktische tips van It Fryske Gea\n\nDeze wandeling duurt ongeveer 2\,5 uren\nDe excursie is ook geschikt voor gezinnen met kinderen\nIn de zomer zijn er vaak muggen in het bos\, trek kleding met lange mouwen en lange pijpen aan of gebruik insectenspray\nDeelname is op eigen risico: je kunt natuur-verslaafd raken!
URL:https://www.itfryskegea.nl/activiteiten/ontdek-het-eeuwenoude-rysterbosk-volop-natuur-en-cultuurhistorie-2/
LOCATION:Murnserleane 1\, Rijs\, Friesland\, 8572 WN
CATEGORIES:Uitgelicht,Wandelen
ATTACH;FMTTYPE=image/jpeg:https://www.itfryskegea.nl/wp-content/uploads/2025/04/rysterbosk_voorjaar.jpg
ORGANIZER;CN="Wytske Heida":MAILTO:wytskeheida@ziggo.nl
GEO:52.862193;5.49674
X-APPLE-STRUCTURED-LOCATION;VALUE=URI;X-ADDRESS=Murnserleane 1 Rijs Friesland 8572 WN;X-APPLE-RADIUS=500;X-TITLE=Murnserleane 1:geo:5.49674,52.862193
END:VEVENT
BEGIN:VEVENT
DTSTART;TZID=Europe/Amsterdam:20250718T140000
DTEND;TZID=Europe/Amsterdam:20250718T160000
DTSTAMP:20260419T223649
CREATED:20250618T121851Z
LAST-MODIFIED:20250717T143015Z
UID:10000167-1752847200-1752854400@www.itfryskegea.nl
SUMMARY:Natuurontdekkingstocht door het Rysterbosk (6+)
DESCRIPTION:Het is zomer! Tijd voor een struintocht door het Rysterbosk. Onze natuurgids gaat met de kinderen op stap in het Rysterbosk met een rugzak vol spulletjes zoals zoekkaarten\, loeppotjes\, spiegeltjes en nog veel meer. Onderweg ontdekken de kinderen door actieve en uitdagende opdrachten van alles over het bos en zijn bewoners. Wie weet vinden we de sporen van een ree of das! \nSpelenderwijs krijgen de kinderen informatie over o.a. planten en bomen\nDe grote eiken in het bos zijn zeker al 300 jaar oud. Ze kunnen ons heel veel vertellen. Zouden ze dat ook doen? Zeg niet te gauw ‘nee’. Je gaat het beleven en ondervinden.\nNaast dat deze jeugdactiviteit heel erg leuk en leerzaam is\, beleef je de natuur met al je zintuigen in de frisse buitenlucht. Genoeg redenen om mee te gaan.
URL:https://www.itfryskegea.nl/activiteiten/natuurontdekkingstocht-door-het-rysterbosk-6/
LOCATION:Murnserleane 1\, Rijs\, Friesland\, 8572 WN
CATEGORIES:Jeugdactiviteit,Uitgelicht
ATTACH;FMTTYPE=image/jpeg:https://www.itfryskegea.nl/wp-content/uploads/2024/07/herfstrysterbosk-1.jpg
ORGANIZER;CN="Wytske Heida":MAILTO:wytskeheida@ziggo.nl
GEO:52.862193;5.49674
X-APPLE-STRUCTURED-LOCATION;VALUE=URI;X-ADDRESS=Murnserleane 1 Rijs Friesland 8572 WN;X-APPLE-RADIUS=500;X-TITLE=Murnserleane 1:geo:5.49674,52.862193
END:VEVENT
BEGIN:VEVENT
DTSTART;TZID=Europe/Amsterdam:20250704T190000
DTEND;TZID=Europe/Amsterdam:20250704T213000
DTSTAMP:20260419T223649
CREATED:20250521T123539Z
LAST-MODIFIED:20250703T112320Z
UID:10000105-1751655600-1751664600@www.itfryskegea.nl
SUMMARY:Geannuleerd - Avondwandeling door het eeuwenoude Rysterbosk
DESCRIPTION:In de 17e eeuw werd het Rysterbosk aangelegd door de Amsterdamse regentenfamilie De Wildt. Sporen uit die tijd – maar ook van ver daarvoor – zijn er vandaag de dag nog genoeg te vinden. Een bos vol geschiedenis\, waar ook prachtige natuur te vinden is! Een interessante plek om eens met een gids van It Fryske Gea op pad te gaan. \nVanuit Huize Rijs\nDe excursie start bij de ingang van It Rysterbosk\, op de plek waar ooit Huize Rijs – het voorname woonhuis van familie De Wildt – stond. Je wandelt over de brede en statige Murnzerleane met beide kanten een dubbele rij beukenkomen. Later volg je de excursieleider over de smallere Griene Leane en de Enkhuizerlaan met z’n nieuwe aanplant. Aan weerszijden van de lanen zie je rabatten liggen: strookjes land met greppels rondom waarop eikenbomen werden geplant zodat ze droge voeten hielden. De ikebeammen werden namelijk als hakhout verkocht. \nIndrukwekkende elementen\nIt Rysterbosk werd in de 17e eeuw volgens de toen populaire rechtlijnige en symmetrische barokke tuinstijl aangelegd. In 1834 kwam de familie Van Swinderen op het landgoed te wonen en werden er kronkelende paden volgens de Engelse landschapsstijl aan het bos toegevoegd. Opvallend zijn verder de majestueuze beukenbomen die her en der verspreid staan. Ze moeten ongeveer 300 jaar oud zijn. Enkele bûkebeammen hebben een omtrek van zowat zeven meter! En wat te denken van het stokoude graf uit de Trechterbekercultuur dat midden in het Rysterbosk te vinden is? \nDieren in het bos\nIt Rysterbosk wordt tussen zonsopkomst en zonsondergang door veel natuurliefhebbers bezocht. Ondanks al die rondwandelende mensen\, leven er ook veel dieren in dit bos. De excursieleider van natuurorganisatie It Fryske Gea zal je wijzen op de vogels die je – afhankelijk van het seizoen – ziet of hoort. Denk aan de houtduif\, de specht of de buizerd. Soms zie je reeën in de naastgelegen Séfinsterpolder lopen. Maar meestal komen zij – net de andere bosbewoners als de das en de vleermuis – pas foar it ljocht als de duisternis invalt. \nPraktische tips van It Fryske Gea\n\nDeze wandeling duurt ongeveer 2\,5 uren.\nDe excursie is ook geschikt voor gezinnen met kinderen.\nIn de zomer zijn er vaak muggen in het bos\, trek kleding met lange mouwen en lange pijpen aan of gebruik insectenspray.\nDeelname is op eigen risico: je kunt natuur-verslaafd raken!
URL:https://www.itfryskegea.nl/activiteiten/avondwandeling-door-het-eeuwenoude-rysterbosk/
LOCATION:Murnserleane 1\, Rijs\, Friesland\, 8572 WN
CATEGORIES:Wandelen
ATTACH;FMTTYPE=image/jpeg:https://www.itfryskegea.nl/wp-content/uploads/2024/07/ifg-rysterbosk-nov2019-48-scaled-1.jpg
ORGANIZER;CN="Wouter Schothorst":MAILTO:schothorst.wouter@gmail.com
GEO:52.862193;5.49674
X-APPLE-STRUCTURED-LOCATION;VALUE=URI;X-ADDRESS=Murnserleane 1 Rijs Friesland 8572 WN;X-APPLE-RADIUS=500;X-TITLE=Murnserleane 1:geo:5.49674,52.862193
END:VEVENT
BEGIN:VEVENT
DTSTART;TZID=Europe/Amsterdam:20250615T093000
DTEND;TZID=Europe/Amsterdam:20250615T120000
DTSTAMP:20260419T223649
CREATED:20250425T125510Z
LAST-MODIFIED:20250613T123817Z
UID:10000067-1749979800-1749988800@www.itfryskegea.nl
SUMMARY:Ontdek het eeuwenoude Rysterbosk volop natuur en cultuurhistorie
DESCRIPTION:In de 17e eeuw werd het Rysterbosk aangelegd door de Amsterdamse regentenfamilie De Wildt. Sporen uit die tijd – maar ook van ver daarvoor – zijn er vandaag de dag nog genoeg te vinden. Een bos vol geschiedenis\, waar ook prachtige natuur te vinden is! Een interessante plek om eens met een gids van It Fryske Gea op pad te gaan. \nVanuit Huize Rijs\nDe excursie start bij de ingang van het Rysterbosk\, op de plek waar ooit Huize Rijs – het voorname woonhuis van familie De Wildt – stond. Je wandelt over de brede en statige Murnzerleane met beide kanten een dubbele rij beukenkomen. Later volg je de excursieleider over de smallere Griene Leane en de Enkhuizerlaan met z’n nieuwe aanplant. Aan weerszijden van de lanen zie je rabatten liggen: strookjes land met greppels rondom waarop eikenbomen werden geplant zodat ze droge voeten hielden. De eikenbomen werden namelijk als hakhout verkocht. \nIndrukwekkende elementen\nHet Rysterbosk werd in de 17e eeuw volgens de toen populaire rechtlijnige en symmetrische barokke tuinstijl aangelegd. In 1834 kwam de familie Van Swinderen op het landgoed te wonen en werden er kronkelende paden volgens de Engelse landschapsstijl aan het bos toegevoegd. Opvallend zijn verder de majestueuze beukenbomen die her en der verspreid staan. Ze moeten ongeveer 300 jaar oud zijn. Enkele beukenbomen hebben een omtrek van zowat zeven meter! En wat te denken van het stokoude graf uit de Trechterbekercultuur dat midden in het Rysterbosk te vinden is? \nDieren in het bos\nHet Rysterbosk wordt tussen zonsopkomst en zonsondergang door veel natuurliefhebbers bezocht. Ondanks al die rondwandelende mensen\, leven er ook veel dieren in dit bos. De excursieleider van It Fryske Gea zal je wijzen op de vogels die je – afhankelijk van het seizoen – ziet of hoort. Denk aan de houtduif\, de specht of de buizerd. Soms zie je reeën in de naastgelegen Séfonsterpolder lopen. Maar meestal komen zij – net de andere bosbewoners als de das en de vleermuis – pas naar buiten als de duisternis invalt. \nPraktische tips van It Fryske Gea\n\nDeze wandeling duurt ongeveer 2\,5 uren\nDe excursie is ook geschikt voor gezinnen met kinderen\nIn het voorjaar zijn er vaak muggen in het bos\, trek kleding met lange mouwen en lange pijpen aan of gebruik insectenspray\nDeelname is op eigen risico: je kunt natuur-verslaafd raken!
URL:https://www.itfryskegea.nl/activiteiten/ontdek-het-eeuwenoude-rysterbosk-volop-natuur-en-cultuurhistorie/
LOCATION:Murnserleane 1\, Rijs\, Friesland\, 8572 WN
CATEGORIES:Wandelen
ATTACH;FMTTYPE=image/jpeg:https://www.itfryskegea.nl/wp-content/uploads/2025/04/rysterbosk_voorjaar.jpg
ORGANIZER;CN="Wytske Heida":MAILTO:wytskeheida@ziggo.nl
GEO:52.862193;5.49674
X-APPLE-STRUCTURED-LOCATION;VALUE=URI;X-ADDRESS=Murnserleane 1 Rijs Friesland 8572 WN;X-APPLE-RADIUS=500;X-TITLE=Murnserleane 1:geo:5.49674,52.862193
END:VEVENT
BEGIN:VEVENT
DTSTART;TZID=Europe/Amsterdam:20250525T093000
DTEND;TZID=Europe/Amsterdam:20250525T120000
DTSTAMP:20260419T223649
CREATED:20250425T123853Z
LAST-MODIFIED:20250523T143235Z
UID:10000064-1748165400-1748174400@www.itfryskegea.nl
SUMMARY:Voorjaarswandeling door het eeuwenoude Rysterbosk
DESCRIPTION:In de 17e eeuw werd It Rysterbosk aangelegd door de Amsterdamse regentenfamilie De Wildt. Sporen uit die tijd – maar ook van ver daarvoor – zijn er vandaag de dag nog genoeg te vinden. Een bos vol geschiedenis\, waar ook prachtige natuur te vinden is! Een interessante plek om eens met een gids van It Fryske Gea op pad te gaan. \nVanuit Huize Rijs\nDe excursie start bij de ingang van het Rysterbosk\, op de plek waar ooit Huize Rijs – het voorname woonhuis van familie De Wildt – stond. Je wandelt over de brede en statige Murnzerleane met beide kanten een dubbele rij beukenkomen. Later volg je de excursieleider over de smallere Griene Leane en de Enkhuizerlaan met z’n nieuwe aanplant. Aan weerszijden van de lanen zie je rabatten liggen: strookjes land met greppels rondom waarop eikenbomen werden geplant zodat ze droge voeten hielden. De eikenbomen werden namelijk als hakhout verkocht. \nIndrukwekkende elementen\nHet Rysterbosk werd in de 17e eeuw volgens de toen populaire rechtlijnige en symmetrische barokke tuinstijl aangelegd. In 1834 kwam de familie Van Swinderen op het landgoed te wonen en werden er kronkelende paden volgens de Engelse landschapsstijl aan het bos toegevoegd. Opvallend zijn verder de majestueuze beukenbomen die her en der verspreid staan. Ze moeten ongeveer 300 jaar oud zijn. Enkele beukenbomen hebben een omtrek van zowat zeven meter! En wat te denken van het stokoude graf uit de Trechterbekercultuur dat midden in het Rysterbosk te vinden is? \nDieren in het bos\nHet Rysterbosk wordt tussen zonsopkomst en zonsondergang door veel natuurliefhebbers bezocht. Ondanks al die rondwandelende mensen\, leven er ook veel dieren in dit bos. De excursieleider van It Fryske Gea zal je wijzen op de vogels die je – afhankelijk van het seizoen – ziet of hoort. Denk aan de houtduif\, de specht of de buizerd. Soms zie je reeën in de naastgelegen Séfonsterpolder lopen. Maar meestal komen zij – net de andere bosbewoners als de das en de vleermuis – pas naar buiten als de duisternis invalt. \nPraktische tips van It Fryske Gea\n\nDeze wandeling duurt ongeveer 2\,5 uren\nDe excursie is ook geschikt voor gezinnen met kinderen\nIn het voorjaar zijn er vaak muggen in het bos\, trek kleding met lange mouwen en lange pijpen aan of gebruik insectenspray\nDeelname is op eigen risico: je kunt natuur-verslaafd raken!
URL:https://www.itfryskegea.nl/activiteiten/voorjaarswandeling-door-het-eeuwenoude-rysterbosk/
LOCATION:Murnserleane 1\, Rijs\, Friesland\, 8572 WN
CATEGORIES:Wandelen
ATTACH;FMTTYPE=image/jpeg:https://www.itfryskegea.nl/wp-content/uploads/2025/04/rysterbosk_voorjaar.jpg
ORGANIZER;CN="Wytske Heida":MAILTO:wytskeheida@ziggo.nl
GEO:52.862193;5.49674
X-APPLE-STRUCTURED-LOCATION;VALUE=URI;X-ADDRESS=Murnserleane 1 Rijs Friesland 8572 WN;X-APPLE-RADIUS=500;X-TITLE=Murnserleane 1:geo:5.49674,52.862193
END:VEVENT
END:VCALENDAR