BEGIN:VCALENDAR
VERSION:2.0
PRODID:-//It Fryske Gea - ECPv6.14.2//NONSGML v1.0//EN
CALSCALE:GREGORIAN
METHOD:PUBLISH
X-ORIGINAL-URL:https://www.itfryskegea.nl
X-WR-CALDESC:Evenementen voor It Fryske Gea
REFRESH-INTERVAL;VALUE=DURATION:PT1H
X-Robots-Tag:noindex
X-PUBLISHED-TTL:PT1H
BEGIN:VTIMEZONE
TZID:Europe/Amsterdam
BEGIN:DAYLIGHT
TZOFFSETFROM:+0100
TZOFFSETTO:+0200
TZNAME:CEST
DTSTART:20250330T010000
END:DAYLIGHT
BEGIN:STANDARD
TZOFFSETFROM:+0200
TZOFFSETTO:+0100
TZNAME:CET
DTSTART:20251026T010000
END:STANDARD
END:VTIMEZONE
BEGIN:VEVENT
DTSTART;TZID=Europe/Amsterdam:20250920T133000
DTEND;TZID=Europe/Amsterdam:20250920T150000
DTSTAMP:20260422T143355
CREATED:20250617T121600Z
LAST-MODIFIED:20250919T145135Z
UID:10000163-1758375000-1758380400@www.itfryskegea.nl
SUMMARY:Op tijdreis door de eendenkooi
DESCRIPTION:De Eanjumerkolken is een klein vogelparadijs waar talloze soorten foerageren\, rusten en broeden. Weidevogels als tureluur\, scholekster en kievit zijn hier in het voorjaar te vinden. Tijdens de vogeltrek bevolken duizenden smienten\, goudplevieren en wulpen het gebied. Om nog maar te zwijgen van de enorme groepen kolganzen\, grauwe ganzen en brandganzen die in de Eanjumer Kolken en omgeving overwinteren. \n\n\nOver de Eanjumerkolken\n\n\n\nDe Eanjumerkolken is een kleinschalig natuurgebied van 141 hectare bij het dorp Anjum – Eanjum in het Frysk\, vandaar de naam. Met twee cultuurhistorische elementen in de vorm van eendenkooien en de verspreid liggende drinkdobben\, is het een uniek gebied. Tot het afsluiten van de Lauwerszee in 1969 was het een laaggelegen\, slecht ontwaterd gebied waarvan het oorspronkelijke karakter door de ruilverkaveling in 1950 sterk was aangetast. De eendenkooien waren toen al eigendom van It Fryske Gea en in 1953 gebeurde dat ook met de laaggelegen graslanden. \n\n\n\n\n\nLandschap en cultuurhistorie\n\n\n\nDankzij goed onderhoud zijn de eendenkooien als cultuurhistorische elementen in het landschap bewaard gebleven. Door het opwerpen van een kade kon voor het natuurgebied een eigen\, hoger waterpeil worden gehandhaafd\, wat de redding was voor de zoutminnende planten en de talrijke vogels in het gebied. In holle bomen broeden kauwen\, holenduiven en bergeenden. Ransuil en boomvalk laten zich hier geregeld zien. Zangvogels als tuinfluiter\, bosrietzanger\, spotvogel\, gekraagde roodstaart\, rietzanger en winterkoninkje komen hier tot broeden. \n\nPraktische Tips\n\nDeze culturele excursie duurt ongeveer anderhalf uur.\nJe legt in totaal ongeveer 2 kilometer af.\nDe excursie is alleen geschikt voor mensen die goed ter been zijn.\nTrek laarzen of stevige schoenen aan.\nTrek voldoende laagjes kleding aan. Want je weet: er bestaat geen slecht weer\, alleen slechte kleding!\nDeelname is op eigen risico: je kunt natuur-verslaafd raken!
URL:https://www.itfryskegea.nl/activiteiten/op-tijdreis-door-de-eendenkooi-2/
LOCATION:Nabij Hoitensreed 3\, Ee\, Friesland\, 9131 EK\, Netherlands
CATEGORIES:Wandelen
ATTACH;FMTTYPE=image/jpeg:https://www.itfryskegea.nl/wp-content/uploads/2025/06/01Cdig3.jpg
ORGANIZER;CN="Betty Kooistra":MAILTO:bettykooistra@hetnet.nl
GEO:53.350981;6.122337
X-APPLE-STRUCTURED-LOCATION;VALUE=URI;X-ADDRESS=Nabij Hoitensreed 3 Ee Friesland 9131 EK Netherlands;X-APPLE-RADIUS=500;X-TITLE=Nabij Hoitensreed 3:geo:6.122337,53.350981
END:VEVENT
BEGIN:VEVENT
DTSTART;TZID=Europe/Amsterdam:20250802T103000
DTEND;TZID=Europe/Amsterdam:20250802T120000
DTSTAMP:20260422T143355
CREATED:20250610T093223Z
LAST-MODIFIED:20250801T115317Z
UID:10000137-1754130600-1754136000@www.itfryskegea.nl
SUMMARY:Op tijdreis door de eendenkooi
DESCRIPTION:De Eanjumerkolken is een klein vogelparadijs waar talloze soorten foerageren\, rusten en broeden. Weidevogels als tureluur\, scholekster en kievit zijn hier in het voorjaar te vinden. Tijdens de vogeltrek bevolken duizenden smienten\, goudplevieren en wulpen het gebied. Om nog maar te zwijgen van de enorme groepen kolganzen\, grauwe ganzen en brandganzen die in de Eanjumer Kolken en omgeving overwinteren. \n\n\nOver de Eanjumerkolken\n\n\n\nDe Eanjumerkolken is een kleinschalig natuurgebied van 141 hectare bij het dorp Anjum – Eanjum in het Frysk\, vandaar de naam. Met twee cultuurhistorische elementen in de vorm van eendenkooien en de verspreid liggende drinkdobben\, is het een uniek gebied. Tot het afsluiten van de Lauwerszee in 1969 was het een laaggelegen\, slecht ontwaterd gebied waarvan het oorspronkelijke karakter door de ruilverkaveling in 1950 sterk was aangetast. De eendenkooien waren toen al eigendom van It Fryske Gea en in 1953 gebeurde dat ook met de laaggelegen graslanden. \n\n\n\n\n\nLandschap en cultuurhistorie\n\n\n\nDankzij goed onderhoud zijn de eendenkooien als cultuurhistorische elementen in het landschap bewaard gebleven. Door het opwerpen van een kade kon voor het natuurgebied een eigen\, hoger waterpeil worden gehandhaafd\, wat de redding was voor de zoutminnende planten en de talrijke vogels in het gebied. In holle bomen broeden kauwen\, holenduiven en bergeenden. Ransuil en boomvalk laten zich hier geregeld zien. Zangvogels als tuinfluiter\, bosrietzanger\, spotvogel\, gekraagde roodstaart\, rietzanger en winterkoninkje komen hier tot broeden. \n\nPraktische Tips\n\nDeze culturele excursie duurt ongeveer anderhalf uur.\nJe legt in totaal ongeveer 2 kilometer af.\nDe excursie is alleen geschikt voor mensen die goed ter been zijn.\nTrek laarzen of stevige schoenen aan.\nTrek voldoende laagjes kleding aan. Want je weet: er bestaat geen slecht weer\, alleen slechte kleding!\nDeelname is op eigen risico: je kunt natuur-verslaafd raken!
URL:https://www.itfryskegea.nl/activiteiten/op-tijdreis-door-de-eendenkooi/
LOCATION:Nabij Hoitensreed 3\, Ee\, Friesland\, 9131 EK\, Netherlands
CATEGORIES:Wandelen
ATTACH;FMTTYPE=image/jpeg:https://www.itfryskegea.nl/wp-content/uploads/2025/06/01Cdig3.jpg
ORGANIZER;CN="Betty Kooistra":MAILTO:bettykooistra@hetnet.nl
GEO:53.350981;6.122337
X-APPLE-STRUCTURED-LOCATION;VALUE=URI;X-ADDRESS=Nabij Hoitensreed 3 Ee Friesland 9131 EK Netherlands;X-APPLE-RADIUS=500;X-TITLE=Nabij Hoitensreed 3:geo:6.122337,53.350981
END:VEVENT
END:VCALENDAR