BEGIN:VCALENDAR
VERSION:2.0
PRODID:-//It Fryske Gea - ECPv6.14.2//NONSGML v1.0//EN
CALSCALE:GREGORIAN
METHOD:PUBLISH
X-WR-CALNAME:It Fryske Gea
X-ORIGINAL-URL:https://www.itfryskegea.nl
X-WR-CALDESC:Evenementen voor It Fryske Gea
REFRESH-INTERVAL;VALUE=DURATION:PT1H
X-Robots-Tag:noindex
X-PUBLISHED-TTL:PT1H
BEGIN:VTIMEZONE
TZID:Europe/Amsterdam
BEGIN:DAYLIGHT
TZOFFSETFROM:+0100
TZOFFSETTO:+0200
TZNAME:CEST
DTSTART:20250330T010000
END:DAYLIGHT
BEGIN:STANDARD
TZOFFSETFROM:+0200
TZOFFSETTO:+0100
TZNAME:CET
DTSTART:20251026T010000
END:STANDARD
BEGIN:DAYLIGHT
TZOFFSETFROM:+0100
TZOFFSETTO:+0200
TZNAME:CEST
DTSTART:20260329T010000
END:DAYLIGHT
BEGIN:STANDARD
TZOFFSETFROM:+0200
TZOFFSETTO:+0100
TZNAME:CET
DTSTART:20261025T010000
END:STANDARD
END:VTIMEZONE
BEGIN:VEVENT
DTSTART;TZID=Europe/Amsterdam:20260411T093000
DTEND;TZID=Europe/Amsterdam:20260411T113000
DTSTAMP:20260422T110104
CREATED:20260128T152305Z
LAST-MODIFIED:20260410T082330Z
UID:10000351-1775899800-1775907000@www.itfryskegea.nl
SUMMARY:Voorjaar in de vogelrijke Warkumerwaard aan de IJsselmeerkust
DESCRIPTION:Ben je een vogelliefhebber? Dan staat de Warkumerwaard aan de Friese kust ongetwijfeld hoog in jouw top 5. Als je in het voorjaar optimaal wilt genieten van dit vogelrijke gebied\, dan kun je het beste meegaan op een wandelexcursie van It Fryske Gea\, je komt dan op plekken die voor publiek afgesloten zijn. \nDrooggevallen zandplaat\nDe Warkumerwaard – net ten noorden van Elfstedenstad Workum gelegen – is een pronkje van It Fryske Gea. De voormalige zandplaat die ooit te midden van een zoute Zuiderzee lag\, is sinds de aanleg van de Afsluitdijk droog komen te liggen en zo ontstonden de Warkumerbinnen- en bûtenwaard. \nGescheiden door de zomerdijk\nOp de binnenwaard vind je vooral schrale – onbemestte – graslanden waar nog zoutminnende planten als de zeeweegbree en de zilte waterranonkel groeien. Ook paarsbloeiende rietorchissen kun je er in het voorjaar aantreffen\, net als de rinkelbel\, de grote ratelaar die rinkelende geluiden maakt. De buitenwaard bestaat uit zandbanken en lint aan witte schelpenbanken. Dit gebied staat onder invloed van het IJsselmeerwater\, vergelijkbaar met een kwelder aan de Waddenkust. Tussen de beide waarden is een kade opgeworpen die de gebieden van elkaar scheidt\, de zogenaamde Simmerdyk. \nVogels in het voorjaar\nMet de gids van It Fryske Gea trek je vanaf de zuidkant het gebied in\, je wandelt over de Simmerdyk richting Gaast. Halverwege stuit je op de schelpenbanken die op laarzen meestal wel te bereiken zijn. Later in het voorjaar nestelt daar een grote kolonie kokmeeuwen. Ook steltlopers als de kluut en de bontbekplevier kun je er tegen komen\, op hun hoge benen zoeken ze naar voedsel in het ondiepe water. In dit niemandsland is het volop genieten van de vogels en het uitzicht over het IJsselmeer\, nim de tiid… Verderop in de natte hooilanden broeden in het voorjaar veel weidevogels als grutto’s kieviten\, tureluurs en scholeksters. Daarnaast zal de natuurgids je vertellen over de nestkasten die hier voor de bergeenden geplaatst worden. \nPraktische tips van It Fryske Gea\n\nDeze wandeling duurt ongeveer 2 uren.\nJe legt in totaal zo’n 6 kilometer af.\nHet dragen van laarzen is verplicht!\nKleed je aan met verschillende laagjes\, want er bestaat geen slecht weer\, alleen slechte kleding.\nDeelname is op eigen risico: je kunt natuur-verslaafd raken!\n\n  \nAls je je inschrijft voor een activiteit\, dan ga je akkoord met onze activiteitenvoorwaarden.
URL:https://www.itfryskegea.nl/activiteiten/voorjaar-in-de-vogelrijke-warkumerwaard-aan-de-ijsselmeerkust-2/
LOCATION:Suderseleane 29\, Workum\, 8711GX
CATEGORIES:Wandelen
ATTACH;FMTTYPE=image/jpeg:https://www.itfryskegea.nl/wp-content/uploads/2024/06/Zichtbeeld_uitkijkpunt_Bijenkamp.jpg
ORGANIZER;CN="Hendrik Haanstra":MAILTO:henjhaanstra@outlook.com
GEO:52.970311;5.414347
X-APPLE-STRUCTURED-LOCATION;VALUE=URI;X-ADDRESS=Suderseleane 29 Workum 8711GX;X-APPLE-RADIUS=500;X-TITLE=Suderseleane 29:geo:5.414347,52.970311
END:VEVENT
BEGIN:VEVENT
DTSTART;TZID=Europe/Amsterdam:20260307T093000
DTEND;TZID=Europe/Amsterdam:20260307T113000
DTSTAMP:20260422T110104
CREATED:20251210T151548Z
LAST-MODIFIED:20260306T133502Z
UID:10000331-1772875800-1772883000@www.itfryskegea.nl
SUMMARY:Voorjaar in de vogelrijke Warkumerwaard aan de IJsselmeerkust
DESCRIPTION:Ben je een vogelliefhebber? Dan staat de Warkumerwaard aan de Friese kust ongetwijfeld hoog in jouw top 5. Als je in het voorjaar optimaal wilt genieten van dit vogelrijke gebied\, dan kun je het beste meegaan op een wandelexcursie van It Fryske Gea\, je komt dan op plekken die voor publiek afgesloten zijn. \nDrooggevallen zandplaat\nDe Warkumerwaard – net ten noorden van Elfstedenstad Workum gelegen – is een pronkje van It Fryske Gea. De voormalige zandplaat die ooit te midden van een zoute Zuiderzee lag\, is sinds de aanleg van de Afsluitdijk droog komen te liggen en zo ontstonden de Warkumerbinnen- en bûtenwaard. \nGescheiden door de zomerdijk\nOp de binnenwaard vind je vooral schrale – onbemestte – graslanden waar nog zoutminnende planten als de zeeweegbree en de zilte waterranonkel groeien. Ook paarsbloeiende rietorchissen kun je er in het voorjaar aantreffen\, net als de rinkelbel\, de grote ratelaar die rinkelende geluiden maakt. De buitenwaard bestaat uit zandbanken en lint aan witte schelpenbanken. Dit gebied staat onder invloed van het IJsselmeerwater\, vergelijkbaar met een kwelder aan de Waddenkust. Tussen de beide waarden is een kade opgeworpen die de gebieden van elkaar scheidt\, de zogenaamde Simmerdyk. \nVogels in het voorjaar\nMet de gids van It Fryske Gea trek je vanaf de zuidkant het gebied in\, je wandelt over de Simmerdyk richting Gaast. Halverwege stuit je op de schelpenbanken die op laarzen meestal wel te bereiken zijn. Later in het voorjaar nestelt daar een grote kolonie kokmeeuwen. Ook steltlopers als de kluut en de bontbekplevier kun je er tegen komen\, op hun hoge benen zoeken ze naar voedsel in het ondiepe water. In dit niemandsland is het volop genieten van de vogels en het uitzicht over het IJsselmeer\, nim de tiid… Verderop in de natte hooilanden broeden in het voorjaar veel weidevogels als grutto’s kieviten\, tureluurs en scholeksters. Daarnaast zal de natuurgids je vertellen over de nestkasten die hier voor de bergeenden geplaatst worden. \nPraktische tips van It Fryske Gea\n\nDeze wandeling duurt ongeveer 2 uren.\nJe legt in totaal zo’n 6 kilometer af.\nHet dragen van laarzen is verplicht!\nKleed je aan met verschillende laagjes\, want er bestaat geen slecht weer\, alleen slechte kleding.\nDeelname is op eigen risico: je kunt natuur-verslaafd raken!
URL:https://www.itfryskegea.nl/activiteiten/voorjaar-in-de-vogelrijke-warkumerwaard-aan-de-ijsselmeerkust/
LOCATION:Suderseleane 29\, Workum\, 8711GX
CATEGORIES:Wandelen
ATTACH;FMTTYPE=image/jpeg:https://www.itfryskegea.nl/wp-content/uploads/2024/06/Zichtbeeld_uitkijkpunt_Bijenkamp.jpg
ORGANIZER;CN="Hendrik Haanstra":MAILTO:henjhaanstra@outlook.com
GEO:52.970311;5.414347
X-APPLE-STRUCTURED-LOCATION;VALUE=URI;X-ADDRESS=Suderseleane 29 Workum 8711GX;X-APPLE-RADIUS=500;X-TITLE=Suderseleane 29:geo:5.414347,52.970311
END:VEVENT
BEGIN:VEVENT
DTSTART;TZID=Europe/Amsterdam:20260214T093000
DTEND;TZID=Europe/Amsterdam:20260214T113000
DTSTAMP:20260422T110104
CREATED:20251210T123752Z
LAST-MODIFIED:20260213T154634Z
UID:10000327-1771061400-1771068600@www.itfryskegea.nl
SUMMARY:Uitwaaien in de vogelrijke Warkumerwaard aan de IJsselmeerkust
DESCRIPTION:De Warkumerwaard aan de Friese IJsselmeer is een waar vogelwalhalla. Wil je in de winter naar trekvogels en wintergasten gaan kijken? Ga dan zeker mee op wandelexcursie met It Fryske Gea: je komt dan op plekken die voor gewoon publiek niet toegankelijk zijn. \nDrooggevallen zandplaat\nDe Warkumerwaard – net ten noorden van Elfstedenstad Workum gelegen – is een pronkje van natuurbeschermingsorganisatie It Fryske Gea. De voormalige zandplaat die ooit te midden van een zoute Zuiderzee lag\, is sinds de aanleg van de Afsluitdijk droog komen te liggen en zo ontstonden de Warkumerbinnen- en bûtenwaard. \nKust zonder dijk\nDe Warkumerwaard is Natura2000 gebied. In de binnenwaard vind je vooral schrale graslanden die in samenwerking met lokale boeren op natuurlijke wijze worden beheerd. De buitenwaard is ruiger en bestaat uit zandbanken\, rietkragen en lint aan witte schelpenbanken. Het bijzondere is dat hier geen dijk langs de kust ligt: het land en het IJsselmeer vormen een natuurlijke oergong. In de winter bij stormen en een hoge waterstand loopt het gebied regelmatig onder water\, het is vergelijkbaar met de kwelders aan de Waddenkust. Er is overigens wel een kade opgeworpen die de buitenwaard van de binnenwaard scheidt\, de Simmerdyk. \nVogels in de winter\nIt tilt hjir op fan de fûgels. Met de gids van It Fryske Gea trek je vanaf de zuidkant het gebied in\, je wandelt over de Simmerdyk richting Gaast. Tijdens je wandeling wordt je vergezeld door ganzen. In het najaar arriveren er opvallend veel brandganzen in de Warkumerwaard\, te herkennen aan hun grijs-zwarte pak en witte kop. Ze zijn afkomstig uit Russische broedgebieden en brengen de winter in Súdwest Fryslân door. Dan arriveer je bij de schelpenbanken die op laarzen meestal wel te bereiken zijn. In het voorjaar nestelen hier de kokmeeuwen met hun chocoladebruine kopjes die ze in het najaar verruilen voor een soort koptelefoontje. Zie jij ze vliegen? Ook de kluut is hier een graag geziene gast\, steeds vaker overwintert hij in Nederland. Met zijn opvallende kromme snavel zoekt hij in de bodem naar voedsel. Kom ook met volle teugen van dit vogelrijke gebied aan het IJsselmeer genieten! \nPraktische tips van It Fryske Gea\n\nDeze wandeling duurt ongeveer 2 uren.\nJe legt in totaal zo’n 6 kilometer af.\nHet dragen van laarzen is verplicht.\nKleed je aan met verschillende laagjes\, want er bestaat geen slecht weer\, alleen slechte kleding.\nDeelname is op eigen risico: je kunt natuur-verslaafd raken!
URL:https://www.itfryskegea.nl/activiteiten/uitwaaien-in-de-vogelrijke-warkumerwaard-aan-de-ijsselmeerkust-5/
LOCATION:Suderseleane 29\, Workum\, 8711GX
CATEGORIES:Wandelen
ATTACH;FMTTYPE=image/webp:https://www.itfryskegea.nl/wp-content/uploads/2024/12/dji_20240612111756_0087_d-2048x1152-1.webp
ORGANIZER;CN="Hendrik Haanstra":MAILTO:henjhaanstra@outlook.com
GEO:52.970311;5.414347
X-APPLE-STRUCTURED-LOCATION;VALUE=URI;X-ADDRESS=Suderseleane 29 Workum 8711GX;X-APPLE-RADIUS=500;X-TITLE=Suderseleane 29:geo:5.414347,52.970311
END:VEVENT
BEGIN:VEVENT
DTSTART;TZID=Europe/Amsterdam:20260124T093000
DTEND;TZID=Europe/Amsterdam:20260124T113000
DTSTAMP:20260422T110104
CREATED:20251210T102929Z
LAST-MODIFIED:20260123T152401Z
UID:10000325-1769247000-1769254200@www.itfryskegea.nl
SUMMARY:Wandelen op de Warkumerwaard door een ganzenparadijs
DESCRIPTION:De Warkumerwaard aan de Friese IJsselmeer is een waar vogelwalhalla. Wil je in de winter naar trekvogels en wintergasten gaan kijken? Ga dan zeker mee op wandelexcursie met It Fryske Gea: je komt dan op plekken die voor gewoon publiek niet toegankelijk zijn. \nDrooggevallen zandplaat\nDe Warkumerwaard – net ten noorden van Elfstedenstad Workum gelegen – is een pronkje van natuurbeschermingsorganisatie It Fryske Gea. De voormalige zandplaat die ooit te midden van een zoute Zuiderzee lag\, is sinds de aanleg van de Afsluitdijk droog komen te liggen en zo ontstonden de Warkumerbinnen- en bûtenwaard. \nKust zonder dijk\nDe Warkumerwaard is Natura2000 gebied. In de binnenwaard vind je vooral schrale graslanden die in samenwerking met lokale boeren op natuurlijke wijze worden beheerd. De buitenwaard is ruiger en bestaat uit zandbanken\, rietkragen en lint aan witte schelpenbanken. Het bijzondere is dat hier geen dijk langs de kust ligt: het land en het IJsselmeer vormen een natuurlijke oergong. In het najaar bij stormen en een hoge waterstand loopt het gebied regelmatig onder water\, het is vergelijkbaar met de kwelders aan de Waddenkust. Er is overigens wel een kade opgeworpen die de buitenwaard van de binnenwaard scheidt\, de Simmerdyk. \nVogels in het najaar\nIt tilt hjir op fan de fûgels. Met de gids van It Fryske Gea trek je vanaf de zuidkant het gebied in\, je wandelt over de Simmerdyk richting Gaast. Tijdens je wandeling wordt je vergezeld door ganzen. In het najaar arriveren er opvallend veel brandganzen in de Warkumerwaard\, te herkennen aan hun grijs-zwarte pak en witte kop. Ze zijn afkomstig uit Russische broedgebieden en brengen de winter in Súdwest Fryslân door. Ook de grauwe gans en kolgans zijn vaste bewoners\, maar de roodhalsgans komt ook bijna ieder jaar langs. Kom ook met volle teugen van dit vogelrijke gebied aan het IJsselmeer genieten! \nPraktische tips van It Fryske Gea\n\nDeze wandeling duurt ongeveer 2 uren.\nJe legt in totaal zo’n 6 kilometer af.\nHet dragen van laarzen is verplicht!\nKleed je aan met verschillende laagjes\, want er bestaat geen slecht weer\, alleen slechte kleding.\nDeelname is op eigen risico: je kunt natuur-verslaafd raken!
URL:https://www.itfryskegea.nl/activiteiten/wandelen-op-de-warkumerwaard-door-een-ganzenparadijs/
LOCATION:Suderseleane 29\, Workum\, 8711GX
CATEGORIES:Wandelen
ATTACH;FMTTYPE=image/jpeg:https://www.itfryskegea.nl/wp-content/uploads/2025/01/brandganzen-scaled-1.jpg
ORGANIZER;CN="Hendrik Haanstra":MAILTO:henjhaanstra@outlook.com
GEO:52.970311;5.414347
X-APPLE-STRUCTURED-LOCATION;VALUE=URI;X-ADDRESS=Suderseleane 29 Workum 8711GX;X-APPLE-RADIUS=500;X-TITLE=Suderseleane 29:geo:5.414347,52.970311
END:VEVENT
BEGIN:VEVENT
DTSTART;TZID=Europe/Amsterdam:20251206T093000
DTEND;TZID=Europe/Amsterdam:20251206T113000
DTSTAMP:20260422T110104
CREATED:20250806T131417Z
LAST-MODIFIED:20251205T105224Z
UID:10000249-1765013400-1765020600@www.itfryskegea.nl
SUMMARY:Uitwaaien in de vogelrijke Warkumerwaard aan de IJsselmeerkust
DESCRIPTION:De Warkumerwaard aan de Friese IJsselmeer is een waar vogelwalhalla. Wil je in de herfst naar trekvogels en wintergasten gaan kijken? Ga dan zeker mee op wandelexcursie met It Fryske Gea: je komt dan op plekken die voor gewoon publiek niet toegankelijk zijn. \nDrooggevallen zandplaat\nDe Warkumerwaard – net ten noorden van Elfstedenstad Workum gelegen – is een pronkje van natuurbeschermingsorganisatie It Fryske Gea. De voormalige zandplaat die ooit te midden van een zoute Zuiderzee lag\, is sinds de aanleg van de Afsluitdijk droog komen te liggen en zo ontstonden de Warkumerbinnen- en bûtenwaard. \nKust zonder dijk\nDe Warkumerwaard is Natura2000 gebied. In de binnenwaard vind je vooral schrale graslanden die in samenwerking met lokale boeren op natuurlijke wijze worden beheerd. De buitenwaard is ruiger en bestaat uit zandbanken\, rietkragen en lint aan witte schelpenbanken. Het bijzondere is dat hier geen dijk langs de kust ligt: het land en het IJsselmeer vormen een natuurlijke oergong. In het najaar bij stormen en een hoge waterstand loopt het gebied regelmatig onder water\, het is vergelijkbaar met de kwelders aan de Waddenkust. Er is overigens wel een kade opgeworpen die de buitenwaard van de binnenwaard scheidt\, de Simmerdyk. \nVogels in het najaar\nIt tilt hjir op fan de fûgels. Met de gids van It Fryske Gea trek je vanaf de zuidkant het gebied in\, je wandelt over de Simmerdyk richting Gaast. Tijdens je wandeling wordt je vergezeld door ganzen. In het najaar arriveren er opvallend veel brandganzen in de Warkumerwaard\, te herkennen aan hun grijs-zwarte pak en witte kop. Ze zijn afkomstig uit Russische broedgebieden en brengen de winter in Súdwest Fryslân door. Dan arriveer je bij de schelpenbanken die op laarzen meestal wel te bereiken zijn. In het voorjaar nestelen hier de kokmeeuwen met hun chocoladebruine kopjes die ze in het najaar verruilen voor een soort koptelefoontje. Zie jij ze vliegen? Ook de kluut is hier een graag geziene gast\, steeds vaker overwintert hij in Nederland. Met zijn opvallende kromme snavel zoekt hij in de bodem naar voedsel. Kom ook met volle teugen van dit vogelrijke gebied aan het IJsselmeer genieten! \nPraktische tips van It Fryske Gea\n\nDeze wandeling duurt ongeveer 2 uren\nJe legt in totaal zo’n 6 kilometer af\nHet dragen van laarzen is verplicht\nKleed je aan met verschillende laagjes\, want er bestaat geen slecht weer\, alleen slechte kleding\nDeelname is op eigen risico: je kunt natuur-verslaafd raken!
URL:https://www.itfryskegea.nl/activiteiten/uitwaaien-in-de-vogelrijke-warkumerwaard-aan-de-ijsselmeerkust-4/
LOCATION:Suderseleane 29\, Workum\, 8711GX
CATEGORIES:Wandelen
ATTACH;FMTTYPE=image/jpeg:https://www.itfryskegea.nl/wp-content/uploads/2024/06/Zichtbeeld_uitkijkpunt_Bijenkamp.jpg
ORGANIZER;CN="Hendrik Haanstra":MAILTO:henjhaanstra@outlook.com
GEO:52.970311;5.414347
X-APPLE-STRUCTURED-LOCATION;VALUE=URI;X-ADDRESS=Suderseleane 29 Workum 8711GX;X-APPLE-RADIUS=500;X-TITLE=Suderseleane 29:geo:5.414347,52.970311
END:VEVENT
BEGIN:VEVENT
DTSTART;TZID=Europe/Amsterdam:20251122T093000
DTEND;TZID=Europe/Amsterdam:20251122T113000
DTSTAMP:20260422T110104
CREATED:20250806T130939Z
LAST-MODIFIED:20251121T140835Z
UID:10000248-1763803800-1763811000@www.itfryskegea.nl
SUMMARY:Uitwaaien in de vogelrijke Warkumerwaard aan de IJsselmeerkust
DESCRIPTION:De Warkumerwaard aan de Friese IJsselmeer is een waar vogelwalhalla. Wil je in de herfst naar trekvogels en wintergasten gaan kijken? Ga dan zeker mee op wandelexcursie met It Fryske Gea: je komt dan op plekken die voor gewoon publiek niet toegankelijk zijn. \nDrooggevallen zandplaat\nDe Warkumerwaard – net ten noorden van Elfstedenstad Workum gelegen – is een pronkje van natuurbeschermingsorganisatie It Fryske Gea. De voormalige zandplaat die ooit te midden van een zoute Zuiderzee lag\, is sinds de aanleg van de Afsluitdijk droog komen te liggen en zo ontstonden de Warkumerbinnen- en bûtenwaard. \nKust zonder dijk\nDe Warkumerwaard is Natura2000 gebied. In de binnenwaard vind je vooral schrale graslanden die in samenwerking met lokale boeren op natuurlijke wijze worden beheerd. De buitenwaard is ruiger en bestaat uit zandbanken\, rietkragen en lint aan witte schelpenbanken. Het bijzondere is dat hier geen dijk langs de kust ligt: het land en het IJsselmeer vormen een natuurlijke oergong. In het najaar bij stormen en een hoge waterstand loopt het gebied regelmatig onder water\, het is vergelijkbaar met de kwelders aan de Waddenkust. Er is overigens wel een kade opgeworpen die de buitenwaard van de binnenwaard scheidt\, de Simmerdyk. \nVogels in het najaar\nIt tilt hjir op fan de fûgels. Met de gids van It Fryske Gea trek je vanaf de zuidkant het gebied in\, je wandelt over de Simmerdyk richting Gaast. Tijdens je wandeling wordt je vergezeld door ganzen. In het najaar arriveren er opvallend veel brandganzen in de Warkumerwaard\, te herkennen aan hun grijs-zwarte pak en witte kop. Ze zijn afkomstig uit Russische broedgebieden en brengen de winter in Súdwest Fryslân door. Dan arriveer je bij de schelpenbanken die op laarzen meestal wel te bereiken zijn. In het voorjaar nestelen hier de kokmeeuwen met hun chocoladebruine kopjes die ze in het najaar verruilen voor een soort koptelefoontje. Zie jij ze vliegen? Ook de kluut is hier een graag geziene gast\, steeds vaker overwintert hij in Nederland. Met zijn opvallende kromme snavel zoekt hij in de bodem naar voedsel. Kom ook met volle teugen van dit vogelrijke gebied aan het IJsselmeer genieten! \nPraktische tips van It Fryske Gea\n\nDeze wandeling duurt ongeveer 2 uren\nJe legt in totaal zo’n 6 kilometer af\nHet dragen van laarzen is verplicht\nKleed je aan met verschillende laagjes\, want er bestaat geen slecht weer\, alleen slechte kleding\nDeelname is op eigen risico: je kunt natuur-verslaafd raken!
URL:https://www.itfryskegea.nl/activiteiten/uitwaaien-in-de-vogelrijke-warkumerwaard-aan-de-ijsselmeerkust-3/
LOCATION:Suderseleane 29\, Workum\, 8711GX
CATEGORIES:Wandelen
ATTACH;FMTTYPE=image/jpeg:https://www.itfryskegea.nl/wp-content/uploads/2024/06/Zichtbeeld_uitkijkpunt_Bijenkamp.jpg
ORGANIZER;CN="Hendrik Haanstra":MAILTO:henjhaanstra@outlook.com
GEO:52.970311;5.414347
X-APPLE-STRUCTURED-LOCATION;VALUE=URI;X-ADDRESS=Suderseleane 29 Workum 8711GX;X-APPLE-RADIUS=500;X-TITLE=Suderseleane 29:geo:5.414347,52.970311
END:VEVENT
BEGIN:VEVENT
DTSTART;TZID=Europe/Amsterdam:20251025T093000
DTEND;TZID=Europe/Amsterdam:20251025T113000
DTSTAMP:20260422T110104
CREATED:20250806T130524Z
LAST-MODIFIED:20251024T122328Z
UID:10000260-1761384600-1761391800@www.itfryskegea.nl
SUMMARY:Uitwaaien in de vogelrijke Warkumerwaard aan de IJsselmeerkust
DESCRIPTION:De Warkumerwaard aan de Friese IJsselmeer is een waar vogelwalhalla. Wil je in de herfst naar trekvogels en wintergasten gaan kijken? Ga dan zeker mee op wandelexcursie met It Fryske Gea: je komt dan op plekken die voor gewoon publiek niet toegankelijk zijn. \nDrooggevallen zandplaat\nDe Warkumerwaard – net ten noorden van Elfstedenstad Workum gelegen – is een pronkje van natuurbeschermingsorganisatie It Fryske Gea. De voormalige zandplaat die ooit te midden van een zoute Zuiderzee lag\, is sinds de aanleg van de Afsluitdijk droog komen te liggen en zo ontstonden de Warkumerbinnen- en bûtenwaard. \nKust zonder dijk\nDe Warkumerwaard is Natura2000 gebied. In de binnenwaard vind je vooral schrale graslanden die in samenwerking met lokale boeren op natuurlijke wijze worden beheerd. De buitenwaard is ruiger en bestaat uit zandbanken\, rietkragen en lint aan witte schelpenbanken. Het bijzondere is dat hier geen dijk langs de kust ligt: het land en het IJsselmeer vormen een natuurlijke oergong. In het najaar bij stormen en een hoge waterstand loopt het gebied regelmatig onder water\, het is vergelijkbaar met de kwelders aan de Waddenkust. Er is overigens wel een kade opgeworpen die de buitenwaard van de binnenwaard scheidt\, de Simmerdyk. \nVogels in het najaar\nIt tilt hjir op fan de fûgels. Met de gids van It Fryske Gea trek je vanaf de zuidkant het gebied in\, je wandelt over de Simmerdyk richting Gaast. Tijdens je wandeling wordt je vergezeld door ganzen. In het najaar arriveren er opvallend veel brandganzen in de Warkumerwaard\, te herkennen aan hun grijs-zwarte pak en witte kop. Ze zijn afkomstig uit Russische broedgebieden en brengen de winter in Súdwest Fryslân door. Dan arriveer je bij de schelpenbanken die op laarzen meestal wel te bereiken zijn. In het voorjaar nestelen hier de kokmeeuwen met hun chocoladebruine kopjes die ze in het najaar verruilen voor een soort koptelefoontje. Zie jij ze vliegen? Ook de kluut is hier een graag geziene gast\, steeds vaker overwintert hij in Nederland. Met zijn opvallende kromme snavel zoekt hij in de bodem naar voedsel. Kom ook met volle teugen van dit vogelrijke gebied aan het IJsselmeer genieten! \nPraktische tips van It Fryske Gea\n\nDeze wandeling duurt ongeveer 2 uren\nJe legt in totaal zo’n 6 kilometer af\nHet dragen van laarzen is verplicht\nKleed je aan met verschillende laagjes\, want er bestaat geen slecht weer\, alleen slechte kleding\nDeelname is op eigen risico: je kunt natuur-verslaafd raken!
URL:https://www.itfryskegea.nl/activiteiten/uitwaaien-in-de-vogelrijke-warkumerwaard-aan-de-ijsselmeerkust-2/
LOCATION:Suderseleane 29\, Workum\, 8711GX
CATEGORIES:Wandelen
ATTACH;FMTTYPE=image/jpeg:https://www.itfryskegea.nl/wp-content/uploads/2024/06/Zichtbeeld_uitkijkpunt_Bijenkamp.jpg
ORGANIZER;CN="Hendrik Haanstra":MAILTO:henjhaanstra@outlook.com
GEO:52.970311;5.414347
X-APPLE-STRUCTURED-LOCATION;VALUE=URI;X-ADDRESS=Suderseleane 29 Workum 8711GX;X-APPLE-RADIUS=500;X-TITLE=Suderseleane 29:geo:5.414347,52.970311
END:VEVENT
BEGIN:VEVENT
DTSTART;TZID=Europe/Amsterdam:20250920T093000
DTEND;TZID=Europe/Amsterdam:20250920T113000
DTSTAMP:20260422T110104
CREATED:20250724T130703Z
LAST-MODIFIED:20250919T065339Z
UID:10000232-1758360600-1758367800@www.itfryskegea.nl
SUMMARY:Uitwaaien in de vogelrijke Warkumerwaard aan de IJsselmeerkust
DESCRIPTION:De Warkumerwaard aan de Friese IJsselmeer is een waar vogelwalhalla. Wil je in de herfst naar trekvogels en wintergasten gaan kijken? Ga dan zeker mee op wandelexcursie met It Fryske Gea: je komt dan op plekken die voor gewoon publiek niet toegankelijk zijn. \nDrooggevallen zandplaat\nDe Warkumerwaard – net ten noorden van Elfstedenstad Workum gelegen – is een pronkje van natuurbeschermingsorganisatie It Fryske Gea. De voormalige zandplaat die ooit te midden van een zoute Zuiderzee lag\, is sinds de aanleg van de Afsluitdijk droog komen te liggen en zo ontstonden de Warkumerbinnen- en bûtenwaard. \nKust zonder dijk\nDe Warkumerwaard is Natura2000 gebied. In de binnenwaard vind je vooral schrale graslanden die in samenwerking met lokale boeren op natuurlijke wijze worden beheerd. De buitenwaard is ruiger en bestaat uit zandbanken\, rietkragen en lint aan witte schelpenbanken. Het bijzondere is dat hier geen dijk langs de kust ligt: het land en het IJsselmeer vormen een natuurlijke oergong. In het najaar bij stormen en een hoge waterstand loopt het gebied regelmatig onder water\, het is vergelijkbaar met de kwelders aan de Waddenkust. Er is overigens wel een kade opgeworpen die de buitenwaard van de binnenwaard scheidt\, de Simmerdyk. \nVogels in het najaar\nIt tilt hjir op fan de fûgels. Met de gids van It Fryske Gea trek je vanaf de zuidkant het gebied in\, je wandelt over de Simmerdyk richting Gaast. Tijdens je wandeling wordt je vergezeld door ganzen. In het najaar arriveren er opvallend veel brandganzen in de Warkumerwaard\, te herkennen aan hun grijs-zwarte pak en witte kop. Ze zijn afkomstig uit Russische broedgebieden en brengen de winter in Súdwest Fryslân door. Dan arriveer je bij de schelpenbanken die op laarzen meestal wel te bereiken zijn. In het voorjaar nestelen hier de kokmeeuwen met hun chocoladebruine kopjes die ze in het najaar verruilen voor een soort koptelefoontje. Zie jij ze vliegen? Ook de kluut is hier een graag geziene gast\, steeds vaker overwintert hij in Nederland. Met zijn opvallende kromme snavel zoekt hij in de bodem naar voedsel. Kom ook met volle teugen van dit vogelrijke gebied aan het IJsselmeer genieten! \nPraktische tips van It Fryske Gea\n\nDeze wandeling duurt ongeveer 2 uren.\nJe legt in totaal zo’n 6 kilometer af.\nHet dragen van laarzen is verplicht.\nKleed je aan met verschillende laagjes\, want er bestaat geen slecht weer\, alleen slechte kleding.\nDeelname is op eigen risico: je kunt natuur-verslaafd raken!
URL:https://www.itfryskegea.nl/activiteiten/uitwaaien-in-de-vogelrijke-warkumerwaard-aan-de-ijsselmeerkust/
LOCATION:Suderseleane 29\, Workum\, 8711GX
CATEGORIES:Wandelen
ATTACH;FMTTYPE=image/jpeg:https://www.itfryskegea.nl/wp-content/uploads/2024/06/Zichtbeeld_uitkijkpunt_Bijenkamp.jpg
ORGANIZER;CN="Hendrik Haanstra":MAILTO:henjhaanstra@outlook.com
GEO:52.970311;5.414347
X-APPLE-STRUCTURED-LOCATION;VALUE=URI;X-ADDRESS=Suderseleane 29 Workum 8711GX;X-APPLE-RADIUS=500;X-TITLE=Suderseleane 29:geo:5.414347,52.970311
END:VEVENT
BEGIN:VEVENT
DTSTART;TZID=Europe/Amsterdam:20250621T093000
DTEND;TZID=Europe/Amsterdam:20250621T113000
DTSTAMP:20260422T110104
CREATED:20250425T130318Z
LAST-MODIFIED:20250620T131152Z
UID:10000068-1750498200-1750505400@www.itfryskegea.nl
SUMMARY:Bloeiende orchideeën op de Warkumerwaard
DESCRIPTION:De Warkumerwaard – net ten noorden van Elfstedenstad Workum gelegen – is een parel van It Fryske Gea. De voormalige zandplaat die ooit te midden van een zoute Zuiderzee lag\, is sinds de aanleg van de Afsluitdijk droog komen te liggen en zo ontstonden de Warkumerbinnen- en bûtenwaard. \nGescheiden door de zomerdijk\nOp de binnenwaard vind je vooral schrale – want onbemestte – graslanden waar nog zoutminnende planten als de zeeweegbree en de zilte waterranonkel groeien. De buitenwaard bestaat uit zandbanken en lint aan witte schelpenbanken. Dit gebied staat onder invloed van het IJsselmeerwater\, vergelijkbaar met een kwelder aan de Waddenkust. Tussen de beide waarden is een kade opgeworpen die de gebieden van elkaar scheidt\, de zogenaamde Simmerdyk. \nOrchideeën\nDe maand juni staat op de Warkumerwaard in het teken van de kleur paars. Het is namelijk de maand waarop de orchideeën in bloei staan. Deze plant profiteert van de voedselarme omstandigheden in het veld. De prachtige bloemen van de orchideeën kleuren de velden paars en op sommige plekken zie je er tientallen bij elkaar staan. Benieuwd? Laat je verrassen door deze prachtige orchideeën in het veld en geef je op voor deze excursie. \nPraktische tips van It Fryske Gea\n\nDeze wandeling duurt ongeveer 2 uren\nJe legt in totaal zo’n 6 kilometer af\nHet dragen van laarzen is verplicht\nKleed je aan met verschillende laagjes\, want er bestaat geen slecht weer\, alleen slechte kleding\nDraag bedekte kleding tegen de muggen\nDeelname is op eigen risico: je kunt natuur-verslaafd raken!
URL:https://www.itfryskegea.nl/activiteiten/bloeiende-orchideeen-op-de-warkumerwaard-2/
LOCATION:Suderseleane 29\, Workum\, 8711GX
CATEGORIES:Wandelen
ATTACH;FMTTYPE=image/jpeg:https://www.itfryskegea.nl/wp-content/uploads/2025/04/rietorchis.jpg
GEO:52.970311;5.414347
X-APPLE-STRUCTURED-LOCATION;VALUE=URI;X-ADDRESS=Suderseleane 29 Workum 8711GX;X-APPLE-RADIUS=500;X-TITLE=Suderseleane 29:geo:5.414347,52.970311
END:VEVENT
END:VCALENDAR